BEGIN:VCALENDAR
VERSION:2.0
PRODID:-//Brock Board of Trade - ECPv6.15.20//NONSGML v1.0//EN
CALSCALE:GREGORIAN
METHOD:PUBLISH
X-ORIGINAL-URL:https://brockboardoftrade.com
X-WR-CALDESC:Events for Brock Board of Trade
REFRESH-INTERVAL;VALUE=DURATION:PT1H
X-Robots-Tag:noindex
X-PUBLISHED-TTL:PT1H
BEGIN:VTIMEZONE
TZID:America/Toronto
BEGIN:DAYLIGHT
TZOFFSETFROM:-0500
TZOFFSETTO:-0400
TZNAME:EDT
DTSTART:20240310T070000
END:DAYLIGHT
BEGIN:STANDARD
TZOFFSETFROM:-0400
TZOFFSETTO:-0500
TZNAME:EST
DTSTART:20241103T060000
END:STANDARD
BEGIN:DAYLIGHT
TZOFFSETFROM:-0500
TZOFFSETTO:-0400
TZNAME:EDT
DTSTART:20250309T070000
END:DAYLIGHT
BEGIN:STANDARD
TZOFFSETFROM:-0400
TZOFFSETTO:-0500
TZNAME:EST
DTSTART:20251102T060000
END:STANDARD
BEGIN:DAYLIGHT
TZOFFSETFROM:-0500
TZOFFSETTO:-0400
TZNAME:EDT
DTSTART:20260308T070000
END:DAYLIGHT
BEGIN:STANDARD
TZOFFSETFROM:-0400
TZOFFSETTO:-0500
TZNAME:EST
DTSTART:20261101T060000
END:STANDARD
END:VTIMEZONE
BEGIN:VEVENT
DTSTART;TZID=America/Toronto:20251128T160000
DTEND;TZID=America/Toronto:20251128T210000
DTSTAMP:20260423T225250
CREATED:20251011T020227Z
LAST-MODIFIED:20251011T020227Z
UID:10000328-1764345600-1764363600@brockboardoftrade.com
SUMMARY:Jingle & Roar Christmas Market
DESCRIPTION:-Shop local vendors and artisans\n-Fresh Christmas tree sales\n-Horse drawn wagon rides\n-Live music and entertainment\n-BBQ & Food Vendors\n-FREE public skating from 4pm-5pm\n-“Light Up The Town” as we flip the switch to turn on the Christmas lights all over Beaverton and kick-off of our annual Christmas Light decorating contest!
URL:https://brockboardoftrade.com/event/jingle-roar-christmas-market/
LOCATION:Beaverton Fairgrounds\, 176 Main Street\, Beaverton\, Ontario\, L0K 1A0\, Canada
CATEGORIES:Community Events
ATTACH;FMTTYPE=image/jpeg:https://brockboardoftrade.com/wp-content/uploads/2025/10/557659569_810958424640728_4484426925549209114_n.jpg
ORGANIZER;CN="Beaverton Lions Club Ontario":MAILTO:info@beavertonlions.ca
END:VEVENT
END:VCALENDAR