BEGIN:VCALENDAR
VERSION:2.0
PRODID:-//Brock Board of Trade - ECPv6.15.20//NONSGML v1.0//EN
CALSCALE:GREGORIAN
METHOD:PUBLISH
X-ORIGINAL-URL:https://brockboardoftrade.com
X-WR-CALDESC:Events for Brock Board of Trade
REFRESH-INTERVAL;VALUE=DURATION:PT1H
X-Robots-Tag:noindex
X-PUBLISHED-TTL:PT1H
BEGIN:VTIMEZONE
TZID:America/Toronto
BEGIN:DAYLIGHT
TZOFFSETFROM:-0500
TZOFFSETTO:-0400
TZNAME:EDT
DTSTART:20230312T070000
END:DAYLIGHT
BEGIN:STANDARD
TZOFFSETFROM:-0400
TZOFFSETTO:-0500
TZNAME:EST
DTSTART:20231105T060000
END:STANDARD
BEGIN:DAYLIGHT
TZOFFSETFROM:-0500
TZOFFSETTO:-0400
TZNAME:EDT
DTSTART:20240310T070000
END:DAYLIGHT
BEGIN:STANDARD
TZOFFSETFROM:-0400
TZOFFSETTO:-0500
TZNAME:EST
DTSTART:20241103T060000
END:STANDARD
BEGIN:DAYLIGHT
TZOFFSETFROM:-0500
TZOFFSETTO:-0400
TZNAME:EDT
DTSTART:20250309T070000
END:DAYLIGHT
BEGIN:STANDARD
TZOFFSETFROM:-0400
TZOFFSETTO:-0500
TZNAME:EST
DTSTART:20251102T060000
END:STANDARD
BEGIN:DAYLIGHT
TZOFFSETFROM:-0500
TZOFFSETTO:-0400
TZNAME:EDT
DTSTART:20260308T070000
END:DAYLIGHT
BEGIN:STANDARD
TZOFFSETFROM:-0400
TZOFFSETTO:-0500
TZNAME:EST
DTSTART:20261101T060000
END:STANDARD
END:VTIMEZONE
BEGIN:VEVENT
DTSTART;TZID=America/Toronto:20251111T100000
DTEND;TZID=America/Toronto:20251111T113000
DTSTAMP:20260423T185332
CREATED:20251105T213406Z
LAST-MODIFIED:20251105T213406Z
UID:10000335-1762855200-1762860600@brockboardoftrade.com
SUMMARY:Remembrance Day Service - Sunderland
DESCRIPTION:10:15am – Legion Hall\, 104 River St. \n10:50am – Service at Cenotaph
URL:https://brockboardoftrade.com/event/remembrance-day-service-sunderland/
LOCATION:Sunderland Cenotaph
CATEGORIES:Community Events
END:VEVENT
BEGIN:VEVENT
DTSTART;TZID=America/Toronto:20251111T080000
DTEND;TZID=America/Toronto:20251111T083000
DTSTAMP:20260423T185332
CREATED:20251105T213805Z
LAST-MODIFIED:20251105T213805Z
UID:10000337-1762848000-1762849800@brockboardoftrade.com
SUMMARY:Remembrance Day Sunrise Service - Cannington
DESCRIPTION:
URL:https://brockboardoftrade.com/event/remembrance-day-sunrise-service-cannington/
LOCATION:Cannington Legion\, 72 Peace Street\, Cannington\, Ontario\, L0E 1E0\, Canada
CATEGORIES:Community Events
END:VEVENT
BEGIN:VEVENT
DTSTART;TZID=America/Toronto:20241113T140000
DTEND;TZID=America/Toronto:20241113T180000
DTSTAMP:20260423T185332
CREATED:20241008T171857Z
LAST-MODIFIED:20241008T171857Z
UID:10000109-1731506400-1731520800@brockboardoftrade.com
SUMMARY:Durham Region Volunteer Fair
DESCRIPTION:Join Us at the 2nd Annual Durham Region Volunteer Fair! \nCalling all Durham Region residents! Mark your calendars for the 2nd Annual Durham Region Volunteer Fair. Join us on Wednesday\, November 13th at the Garnet B. Rickard Sports Complex (2440 Durham Regional Hwy 2) in Bowmanville. Community Care Durham and DRAVA (Durham Region Assoc. for Volunteer Administration) are excited to partnered together once again to host this event. People of all ages are welcomed to attend this FREE event from 2pm to 6pm.\nThis year is bigger and better! Explore all the volunteer opportunities over 40 vendors have to offer. Check out the list of participants who have already registered. http://www.drava.org/volunteer-fair.html. Here’s your chance to earn volunteer hours\, share your time and give back to the community.
URL:https://brockboardoftrade.com/event/durham-region-volunteer-fair/
LOCATION:Garnet B. Rickard Recreation Complex\, 2440 Durham Regional Hwy 2\, Bowmanville\, L1C 3K2\, Canada
CATEGORIES:Community Events
ORGANIZER;CN="Community Care Durham":MAILTO:mmarchuk@communitycaredurham.on.ca
END:VEVENT
BEGIN:VEVENT
DTSTART;TZID=America/Toronto:20240718T100000
DTEND;TZID=America/Toronto:20240718T123000
DTSTAMP:20260423T185332
CREATED:20240617T180230Z
LAST-MODIFIED:20240617T180230Z
UID:10000101-1721296800-1721305800@brockboardoftrade.com
SUMMARY:The Blossom Trail Walk and Talk Through Ephemeral Art... A Living Canvas ...with Sarah Cowley
DESCRIPTION:Enjoy a guided walk along the Blossom trail with Sarah Cowley.\nFriends of BEAVERTON’S Parks Member \, accomplished and awarded artist . Sarah will discuss the project and plant material and the aim /goal of the plantings. She will point out how the trail can be incorporated into a person’s world of art.\nDiscover a living canvas full of colours and textures that exist within the growing\, breathing and thriving environment.\nWe will follow the walk with a gathering at the meeting place where Sarah will talk more about Art and the ephemeral canvas.
URL:https://brockboardoftrade.com/event/the-blossom-trail-walk-and-talk-through-ephemeral-art-a-living-canvas-with-sarah-cowley/
CATEGORIES:Community Events
ATTACH;FMTTYPE=image/png:https://brockboardoftrade.com/wp-content/uploads/2024/06/1-e1718647280277.png
ORGANIZER;CN="Brock Arts and Culture":MAILTO:brockartsculture@gmail.com
END:VEVENT
BEGIN:VEVENT
DTSTART;TZID=America/Toronto:20240615T100000
DTEND;TZID=America/Toronto:20240615T160000
DTSTAMP:20260423T185332
CREATED:20240328T180455Z
LAST-MODIFIED:20240328T181208Z
UID:10000078-1718445600-1718467200@brockboardoftrade.com
SUMMARY:Beaverton Coin and Stamp Show and Sale
DESCRIPTION:Beaverton Coin and Stamp Show and Sale\nTwo great hobbies together by beautiful Lake Simcoe! Just an hour and a half north of Toronto. One day only\, Saturday June 15\, 2024 from 10:00 am to 4:00 pm. Admission is only $5.00 (youths under 16 are free). The show is at the Beaverton Curling Club\, 164 Main Street\, Beaverton\, Ontario. Lots of free parking! Show floor is accessible\, washrooms are down stairs. Both the Champlain Coin Club from Orillia and the Fenelon Stamp Club from Fenelon Falls will be present and participating! Where good friends meet! Contact Mike Cole 705-426-9587 or colemk62@gmail.com for information.
URL:https://brockboardoftrade.com/event/beaverton-coin-and-stamp-show-and-sale/
LOCATION:Beaverton Curling Club\, 164 Main Street\, Beaverton\, L0K 1A0\, Canada
CATEGORIES:Community Events
ORGANIZER;CN="Mike Cole":MAILTO:colemk62@gmail.com
END:VEVENT
BEGIN:VEVENT
DTSTART;TZID=America/Toronto:20240608T090000
DTEND;TZID=America/Toronto:20240608T160000
DTSTAMP:20260423T185332
CREATED:20240604T145056Z
LAST-MODIFIED:20240604T145056Z
UID:10000099-1717837200-1717862400@brockboardoftrade.com
SUMMARY:Port Perry Pride Celebration
DESCRIPTION:Join us for the third annual Scugog Pride celebration at Palmer Park in Port Perry! Enjoy an afternoon of arts\, music\, and entertainment celebrating diversity and inclusivity. This free\, family-friendly event invites everyone to share in laughter\, love\, and fun. \nEvent Highlights:\nNorth Durham Pride March: 9am at Reflection Park\nScugog Pride Celebration: 10am-4pm at Palmer Park\nAfternoon Delight: 2pm-5pm at Old Flame Brewing\nFree Shuttle Bus: 5pm-6pm and 11pm-midnight from Old Flame to Two Blokes Cider\nSmall Town Pride After Party: 7pm-midnight at Two Blokes Cider \nVisit northdurhampride.ca for more event details. \nIn Partnership with the Scugog Chamber of Commerce\, Port Perry BIA\, Port Perry Farmers Market \nSponsored by:\nKreativ Rehab\nTake Care Tattoo\nTD Bank Group \nRadio Tag Version \nGet ready to celebrate diversity and inclusivity at the third annual Scugog Pride in Port Perry on June 8th! Join us for a day of arts\, music\, and entertainment. For event details\, visit northdurhampride.ca. See you there!
URL:https://brockboardoftrade.com/event/port-perry-pride-celebration/
LOCATION:Palmer Park Port Perry\, 175 Water Street\, Port Perry
CATEGORIES:Community Events
ORGANIZER;CN="North Durham Pride":MAILTO:info@northdurhampride.ca
END:VEVENT
BEGIN:VEVENT
DTSTART;TZID=America/Toronto:20240502T123000
DTEND;TZID=America/Toronto:20240502T153000
DTSTAMP:20260423T185332
CREATED:20240410T161139Z
LAST-MODIFIED:20240410T161139Z
UID:10000088-1714653000-1714663800@brockboardoftrade.com
SUMMARY:Taking your Hobby to the Next Level
DESCRIPTION:Are you ready to take your hobby to the next level? Successful artist Sheila Davis will give you an insight into what it takes to get your idea off the ground. The work it takes\, how to market and sell your product\, how to handle the business end of things and how to be a successful entrepreneur.
URL:https://brockboardoftrade.com/event/taking-your-hobby-to-the-next-level/
LOCATION:The Meeting Place – Beaver River Museum\, 284 Simcoe Street\, Beaverton\, Ontario\, L0K 1A0\, Canada
CATEGORIES:Community Events
ORGANIZER;CN="Brock Arts and Culture":MAILTO:brockartsculture@gmail.com
END:VEVENT
END:VCALENDAR