BEGIN:VCALENDAR
VERSION:2.0
PRODID:-//Brock Board of Trade - ECPv6.15.20//NONSGML v1.0//EN
CALSCALE:GREGORIAN
METHOD:PUBLISH
X-ORIGINAL-URL:https://brockboardoftrade.com
X-WR-CALDESC:Events for Brock Board of Trade
REFRESH-INTERVAL;VALUE=DURATION:PT1H
X-Robots-Tag:noindex
X-PUBLISHED-TTL:PT1H
BEGIN:VTIMEZONE
TZID:America/Toronto
BEGIN:DAYLIGHT
TZOFFSETFROM:-0500
TZOFFSETTO:-0400
TZNAME:EDT
DTSTART:20240310T070000
END:DAYLIGHT
BEGIN:STANDARD
TZOFFSETFROM:-0400
TZOFFSETTO:-0500
TZNAME:EST
DTSTART:20241103T060000
END:STANDARD
BEGIN:DAYLIGHT
TZOFFSETFROM:-0500
TZOFFSETTO:-0400
TZNAME:EDT
DTSTART:20250309T070000
END:DAYLIGHT
BEGIN:STANDARD
TZOFFSETFROM:-0400
TZOFFSETTO:-0500
TZNAME:EST
DTSTART:20251102T060000
END:STANDARD
BEGIN:DAYLIGHT
TZOFFSETFROM:-0500
TZOFFSETTO:-0400
TZNAME:EDT
DTSTART:20260308T070000
END:DAYLIGHT
BEGIN:STANDARD
TZOFFSETFROM:-0400
TZOFFSETTO:-0500
TZNAME:EST
DTSTART:20261101T060000
END:STANDARD
BEGIN:DAYLIGHT
TZOFFSETFROM:-0500
TZOFFSETTO:-0400
TZNAME:EDT
DTSTART:20270314T070000
END:DAYLIGHT
BEGIN:STANDARD
TZOFFSETFROM:-0400
TZOFFSETTO:-0500
TZNAME:EST
DTSTART:20271107T060000
END:STANDARD
END:VTIMEZONE
BEGIN:VEVENT
DTSTART;TZID=America/Toronto:20251129T110000
DTEND;TZID=America/Toronto:20251129T120000
DTSTAMP:20260425T064657
CREATED:20251011T021008Z
LAST-MODIFIED:20251011T021008Z
UID:10000330-1764414000-1764417600@brockboardoftrade.com
SUMMARY:Cannington Santa Claus Parade
DESCRIPTION:Who’s ready for a Candy Land Christmas in Cannington?! \n\n\nHere it is — the official parade route map! Time to start scouting out your sweet spot to watch all the fun! (Don’t worry — no need to camp out yet… we know it’s still early\, even if the Lions already have tinsel in their manes!)\n\n\nThe Lions are busy working hand-in-paw with Santa himself to make sure everything goes smooth as hot cocoa.\nAnd yes — Santa confirmed he’ll be hanging out at the firehall after the parade for photos! (He says the fire trucks remind him of his sleigh when it’s in for tune-ups.)\n\n\nGot questions? Want to join the fun with your own float?\nParade@canningtonlionsclub.ca\n\n\nLet’s make this a sugar-sprinkled\, jingle-belled\, candy-coated Christmas to remember!
URL:https://brockboardoftrade.com/event/cannington-santa-claus-parade-2/
CATEGORIES:Community Events
ATTACH;FMTTYPE=image/jpeg:https://brockboardoftrade.com/wp-content/uploads/2025/10/561178833_1237768191728277_8685155905389867079_n.jpg
ORGANIZER;CN="Cannington Lions Club Ontario":MAILTO:president@canningtonlionsclub.ca
END:VEVENT
BEGIN:VEVENT
DTSTART;TZID=America/Toronto:20251129T180000
DTEND;TZID=America/Toronto:20251129T190000
DTSTAMP:20260425T064657
CREATED:20251011T020434Z
LAST-MODIFIED:20251011T020434Z
UID:10000329-1764439200-1764442800@brockboardoftrade.com
SUMMARY:The Beaverton Santa Claus Parade
DESCRIPTION:-Join us for the annual Santa Claus Parade through downtown Beaverton!\n-Extended store hours for evening shopping\n-Santa Meet & Greet following the parade at the Fire Hall
URL:https://brockboardoftrade.com/event/the-beaverton-santa-claus-parade/
CATEGORIES:Community Events
ATTACH;FMTTYPE=image/jpeg:https://brockboardoftrade.com/wp-content/uploads/2025/10/559666575_810919694644601_7814567682196125829_n.jpg
ORGANIZER;CN="Beaverton Lions Club Ontario":MAILTO:info@beavertonlions.ca
END:VEVENT
BEGIN:VEVENT
DTSTART;TZID=America/Toronto:20251205T180000
DTEND;TZID=America/Toronto:20251205T210000
DTSTAMP:20260425T064657
CREATED:20251125T032949Z
LAST-MODIFIED:20251125T032949Z
UID:10000347-1764957600-1764968400@brockboardoftrade.com
SUMMARY:Beaverton Stroll & Shop
DESCRIPTION:Stop by downtown Beaverton for this evening shopping event!
URL:https://brockboardoftrade.com/event/beaverton-stroll-shop/
CATEGORIES:Community Events
ATTACH;FMTTYPE=image/jpeg:https://brockboardoftrade.com/wp-content/uploads/2025/11/IMG_9069.jpg
END:VEVENT
BEGIN:VEVENT
DTSTART;TZID=America/Toronto:20260213T100000
DTEND;TZID=America/Toronto:20260213T110000
DTSTAMP:20260425T064657
CREATED:20260201T025226Z
LAST-MODIFIED:20260201T025226Z
UID:10000356-1770976800-1770980400@brockboardoftrade.com
SUMMARY:Coffee With a Cop
DESCRIPTION:Stop in to connect with neighbours and your local officers who live and work in our community.
URL:https://brockboardoftrade.com/event/coffee-with-a-cop/
LOCATION:Underground Bake Shop\, 425 Mara Rd\, Beaverton\, ON\, L0K 1A0\, Canada
CATEGORIES:Community Events
ATTACH;FMTTYPE=image/jpeg:https://brockboardoftrade.com/wp-content/uploads/2026/01/IMG_5398.jpg
END:VEVENT
BEGIN:VEVENT
DTSTART;TZID=America/Toronto:20260220T100000
DTEND;TZID=America/Toronto:20260220T110000
DTSTAMP:20260425T064657
CREATED:20260201T025342Z
LAST-MODIFIED:20260201T025342Z
UID:10000357-1771581600-1771585200@brockboardoftrade.com
SUMMARY:Coffee With a Cop
DESCRIPTION:
URL:https://brockboardoftrade.com/event/coffee-with-a-cop-2/
LOCATION:River Street Cafe\, 93 River Street\, Sunderland\, Ontario\, L0C 1H0\, Canada
CATEGORIES:Community Events
ATTACH;FMTTYPE=image/jpeg:https://brockboardoftrade.com/wp-content/uploads/2026/01/IMG_5398.jpg
END:VEVENT
BEGIN:VEVENT
DTSTART;TZID=America/Toronto:20260402T150000
DTEND;TZID=America/Toronto:20260402T190000
DTSTAMP:20260425T064657
CREATED:20260201T035255Z
LAST-MODIFIED:20260201T035255Z
UID:10000358-1775142000-1775156400@brockboardoftrade.com
SUMMARY:Durham College IT Expo
DESCRIPTION:We are excited to be the presenting sponsor for the 2026 DC IT Student Expo\, taking place on April 02nd\, 2026 at Durham College. This annual event will showcase the capstone projects of graduating students from Durham College’s Cybersecurity\, Artificial Intelligence\, Computer Systems Technology\, and Computer Programming & Analysis programs. After months of hard work spent on these projects\, this event offers a unique platform to highlight their skills\, creativity\, and technical expertise. It is an exciting opportunity for sponsors and exhibitors to engage with the next generation of tech innovators while gaining exposure to a diverse audience\, including high school students\, local businesses\, and professionals deem the Greater Toronto Area. \nAre you interested in sponsoring this event? Please reach out to martha@brockboardoftrade.com for more information on sponsorship packages.
URL:https://brockboardoftrade.com/event/durham-college-it-expo-2/
LOCATION:Durham College\, 2000 Simcoe St. N\, Oshawa\, ON.\, Oshawa\, Ontario\, L1G 0C5\, Canada
CATEGORIES:Brock Board of Trade,Community Events
ATTACH;FMTTYPE=image/png:https://brockboardoftrade.com/wp-content/uploads/2026/01/Screenshot-2026-01-31-at-10.50.26-PM.png
END:VEVENT
BEGIN:VEVENT
DTSTART;VALUE=DATE:20260411
DTEND;VALUE=DATE:20260413
DTSTAMP:20260425T064657
CREATED:20260201T022604Z
LAST-MODIFIED:20260201T022604Z
UID:10000352-1775865600-1776038399@brockboardoftrade.com
SUMMARY:Sunderland Maple Syrup Festival
DESCRIPTION:Come out to the ever-popular Sunderland Maple Syrup Festival! Fun for the whole family\, and lots to see\, do\, and buy. Visit their website (linked below) for the while schedule of events.
URL:https://brockboardoftrade.com/event/sunderland-maple-syrup-festival-2/
LOCATION:Sunderland Ontario\, Sunderland\, Ontario\, L0C 1H0\, Canada
CATEGORIES:Community Events
ATTACH;FMTTYPE=image/jpeg:https://brockboardoftrade.com/wp-content/uploads/2026/01/IMG_5395.jpg
ORGANIZER;CN="Sunderland Maple Syrup Festival":MAILTO:info@maplesyrupfestival.ca
END:VEVENT
BEGIN:VEVENT
DTSTART;VALUE=DATE:20260918
DTEND;VALUE=DATE:20260920
DTSTAMP:20260425T064657
CREATED:20260201T023120Z
LAST-MODIFIED:20260201T023120Z
UID:10000353-1789689600-1789862399@brockboardoftrade.com
SUMMARY:Beaverton Fall Fair
DESCRIPTION:Join the Beaverton Fall Fair for a weekend of fun! Celebrating the 171st annual fair in 2026\, there is lots to do for the whole family with rides\, displays\, vendors\, agricultural\, homecraft\, car show\, and the popular demolition derby. \nPlease visit their website (linked below) for more information and the schedule of events.
URL:https://brockboardoftrade.com/event/beaverton-fall-fair-4/
LOCATION:Beaverton Fairgrounds\, 176 Main Street\, Beaverton\, Ontario\, L0K 1A0\, Canada
CATEGORIES:Community Events
ATTACH;FMTTYPE=image/jpeg:https://brockboardoftrade.com/wp-content/uploads/2026/01/Beaverton-Fall-Fair-Logo-4C-Smaller_jp.jpg
END:VEVENT
END:VCALENDAR