BEGIN:VCALENDAR
VERSION:2.0
PRODID:-//Brock Board of Trade - ECPv6.15.20//NONSGML v1.0//EN
CALSCALE:GREGORIAN
METHOD:PUBLISH
X-WR-CALNAME:Brock Board of Trade
X-ORIGINAL-URL:https://brockboardoftrade.com
X-WR-CALDESC:Events for Brock Board of Trade
REFRESH-INTERVAL;VALUE=DURATION:PT1H
X-Robots-Tag:noindex
X-PUBLISHED-TTL:PT1H
BEGIN:VTIMEZONE
TZID:America/Toronto
BEGIN:DAYLIGHT
TZOFFSETFROM:-0500
TZOFFSETTO:-0400
TZNAME:EDT
DTSTART:20250309T070000
END:DAYLIGHT
BEGIN:STANDARD
TZOFFSETFROM:-0400
TZOFFSETTO:-0500
TZNAME:EST
DTSTART:20251102T060000
END:STANDARD
BEGIN:DAYLIGHT
TZOFFSETFROM:-0500
TZOFFSETTO:-0400
TZNAME:EDT
DTSTART:20260308T070000
END:DAYLIGHT
BEGIN:STANDARD
TZOFFSETFROM:-0400
TZOFFSETTO:-0500
TZNAME:EST
DTSTART:20261101T060000
END:STANDARD
BEGIN:DAYLIGHT
TZOFFSETFROM:-0500
TZOFFSETTO:-0400
TZNAME:EDT
DTSTART:20270314T070000
END:DAYLIGHT
BEGIN:STANDARD
TZOFFSETFROM:-0400
TZOFFSETTO:-0500
TZNAME:EST
DTSTART:20271107T060000
END:STANDARD
END:VTIMEZONE
BEGIN:VEVENT
DTSTART;TZID=America/Toronto:20260425T100000
DTEND;TZID=America/Toronto:20260425T170000
DTSTAMP:20260423T200829
CREATED:20260201T023716Z
LAST-MODIFIED:20260201T023716Z
UID:10000355-1777111200-1777136400@brockboardoftrade.com
SUMMARY:Psychic Fair
DESCRIPTION:Join Moonflower’s for their spring psychic fair!
URL:https://brockboardoftrade.com/event/psychic-fair-2/
LOCATION:Moonflower’s\, 312 Osborne St.\, Beaverton\, ON\, L0K1A0\, Canada
ATTACH;FMTTYPE=image/jpeg:https://brockboardoftrade.com/wp-content/uploads/2026/01/IMG_5396.jpg
END:VEVENT
BEGIN:VEVENT
DTSTART;TZID=America/Toronto:20260505T130000
DTEND;TZID=America/Toronto:20260505T140000
DTSTAMP:20260423T200829
CREATED:20260307T165041Z
LAST-MODIFIED:20260307T165656Z
UID:10000361-1777986000-1777989600@brockboardoftrade.com
SUMMARY:Neurodiversity in the Workplace
DESCRIPTION:This webinar offers an introduction\, and foundational knowledge on the relevance of neurodiversity and inclusion in the workplace.\n\n\n  \n\n\n\n\n\nJoin us for this free webinar\, and learn more about neurodiversity in the workplace\, and how neiroinclusivity can benefit your business! This course will cover: \nIntroduction of concepts\, language\, statistics and definitions around neurodiversity\, with the goal of building a foundational knowledge on neurodiversity at work. \nShare why neurodiversity in the workplace is relevant and examples of how it may appear in the workplace with strategies on how best to support. \nAddress how traditional work environments may need to adapt to accommodate diverse ways of working\, discuss the use of accommodations and/or adjustments. \nYou will also get information on free courses and consulting offered by our host\, NEUROinclusive Workforce Solutions focusing on a supportive and successful workplace for employees and managers\, as well as consulting on specific projects. \nThis is a FREE webinar that is perfect for owners\, managers\, employees and volunteers of businesses and non-profits. \nOur 2026 Workshop Series is presented by Invest Durham. Their sponsorship allows us to bring valuable workshops to our members and community. \n\nVisit the Eventbrite link to reserve your spot! \n\n\n\n\n 
URL:https://brockboardoftrade.com/event/neurodiversity-in-the-workplace/
LOCATION:https://us02web.zoom.us/j/88981500678?pwd=WnicqCpGxFNSqzQa1wdBKObv6a7IoI.1
CATEGORIES:Brock Board of Trade
ATTACH;FMTTYPE=image/png:https://brockboardoftrade.com/wp-content/uploads/2026/03/tax-seminar-1-scaled.png
END:VEVENT
BEGIN:VEVENT
DTSTART;TZID=America/Toronto:20260603T180000
DTEND;TZID=America/Toronto:20260603T200000
DTSTAMP:20260423T200829
CREATED:20260201T021835Z
LAST-MODIFIED:20260201T021835Z
UID:10000351-1780509600-1780516800@brockboardoftrade.com
SUMMARY:Tri-County Networking Extravaganza
DESCRIPTION:TRI-COUNTY NETWORKING ✨EXTRAVAGANZA✨ \nWe’ve teamed up with northdurhamchamber and golfmillrun to bring you an exciting event with business owners\, community leaders\, networking and lots more!\nMeet the chamber teams and directors\, win prizes\, and discover exciting local businesses.\nEntry is free and all are welcome! \nIf you’re interested in advertising your business at this event\, please reach out to events@northdurhamchamber.ca
URL:https://brockboardoftrade.com/event/tri-county-networking-extravaganza/
LOCATION:Mill Run Golf Course\, 269 Durham Regional Rd. 8\, Uxbridge\, ON\, L9P1R1\, Canada
ATTACH;FMTTYPE=image/png:https://brockboardoftrade.com/wp-content/uploads/2026/01/Untitled-design-2.png
END:VEVENT
BEGIN:VEVENT
DTSTART;TZID=America/Toronto:20260606T093000
DTEND;TZID=America/Toronto:20260607T160000
DTSTAMP:20260423T200829
CREATED:20260129T184241Z
LAST-MODIFIED:20260129T184241Z
UID:10000349-1780738200-1780848000@brockboardoftrade.com
SUMMARY:Annual Antique Show & Sale
DESCRIPTION:Join the Beaver River Museum in Beaverton for a great show with antique dealers\, silent auction\, heritage demonstrations\, model railway features\, and food booths. \nAdmission is $5 per day\, and all proceeds got towards the operation of the Beaver River Museum.
URL:https://brockboardoftrade.com/event/annual-antique-show-sale/
LOCATION:Beaverton Arena\, 176 Main Street\, Beaverton\, Ontario\, L0K 1A0\, Canada
ORGANIZER;CN="Beaverton Thorah Eldon Historical Society":MAILTO:bte.hist.soc@bellnet.ca
END:VEVENT
BEGIN:VEVENT
DTSTART;TZID=America/Toronto:20260626T073000
DTEND;TZID=America/Toronto:20260626T130000
DTSTAMP:20260423T200829
CREATED:20260201T040925Z
LAST-MODIFIED:20260201T040925Z
UID:10000359-1782459000-1782478800@brockboardoftrade.com
SUMMARY:Rise & Nine
DESCRIPTION:Join us for a breakfast golf tournament at Foxbridge with York-Durham MP Jacob Mantle.
URL:https://brockboardoftrade.com/event/rise-nine/
LOCATION:Foxbridge Golf Course\, 350 Reach St.\, Uxbridge\, ON\, L9P0N3\, Canada
ATTACH;FMTTYPE=image/png:https://brockboardoftrade.com/wp-content/uploads/2026/01/Untitled-design-3.png
END:VEVENT
BEGIN:VEVENT
DTSTART;VALUE=DATE:20260918
DTEND;VALUE=DATE:20260920
DTSTAMP:20260423T200829
CREATED:20260201T023120Z
LAST-MODIFIED:20260201T023120Z
UID:10000353-1789689600-1789862399@brockboardoftrade.com
SUMMARY:Beaverton Fall Fair
DESCRIPTION:Join the Beaverton Fall Fair for a weekend of fun! Celebrating the 171st annual fair in 2026\, there is lots to do for the whole family with rides\, displays\, vendors\, agricultural\, homecraft\, car show\, and the popular demolition derby. \nPlease visit their website (linked below) for more information and the schedule of events.
URL:https://brockboardoftrade.com/event/beaverton-fall-fair-4/
LOCATION:Beaverton Fairgrounds\, 176 Main Street\, Beaverton\, Ontario\, L0K 1A0\, Canada
CATEGORIES:Community Events
ATTACH;FMTTYPE=image/jpeg:https://brockboardoftrade.com/wp-content/uploads/2026/01/Beaverton-Fall-Fair-Logo-4C-Smaller_jp.jpg
END:VEVENT
END:VCALENDAR