BEGIN:VCALENDAR
VERSION:2.0
PRODID:-//Brock Board of Trade - ECPv6.15.20//NONSGML v1.0//EN
CALSCALE:GREGORIAN
METHOD:PUBLISH
X-WR-CALNAME:Brock Board of Trade
X-ORIGINAL-URL:https://brockboardoftrade.com
X-WR-CALDESC:Events for Brock Board of Trade
REFRESH-INTERVAL;VALUE=DURATION:PT1H
X-Robots-Tag:noindex
X-PUBLISHED-TTL:PT1H
BEGIN:VTIMEZONE
TZID:America/Toronto
BEGIN:DAYLIGHT
TZOFFSETFROM:-0500
TZOFFSETTO:-0400
TZNAME:EDT
DTSTART:20170312T070000
END:DAYLIGHT
BEGIN:STANDARD
TZOFFSETFROM:-0400
TZOFFSETTO:-0500
TZNAME:EST
DTSTART:20171105T060000
END:STANDARD
BEGIN:DAYLIGHT
TZOFFSETFROM:-0500
TZOFFSETTO:-0400
TZNAME:EDT
DTSTART:20180311T070000
END:DAYLIGHT
BEGIN:STANDARD
TZOFFSETFROM:-0400
TZOFFSETTO:-0500
TZNAME:EST
DTSTART:20181104T060000
END:STANDARD
BEGIN:DAYLIGHT
TZOFFSETFROM:-0500
TZOFFSETTO:-0400
TZNAME:EDT
DTSTART:20190310T070000
END:DAYLIGHT
BEGIN:STANDARD
TZOFFSETFROM:-0400
TZOFFSETTO:-0500
TZNAME:EST
DTSTART:20191103T060000
END:STANDARD
BEGIN:DAYLIGHT
TZOFFSETFROM:-0500
TZOFFSETTO:-0400
TZNAME:EDT
DTSTART:20200308T070000
END:DAYLIGHT
BEGIN:STANDARD
TZOFFSETFROM:-0400
TZOFFSETTO:-0500
TZNAME:EST
DTSTART:20201101T060000
END:STANDARD
BEGIN:DAYLIGHT
TZOFFSETFROM:-0500
TZOFFSETTO:-0400
TZNAME:EDT
DTSTART:20210314T070000
END:DAYLIGHT
BEGIN:STANDARD
TZOFFSETFROM:-0400
TZOFFSETTO:-0500
TZNAME:EST
DTSTART:20211107T060000
END:STANDARD
BEGIN:DAYLIGHT
TZOFFSETFROM:-0500
TZOFFSETTO:-0400
TZNAME:EDT
DTSTART:20220313T070000
END:DAYLIGHT
BEGIN:STANDARD
TZOFFSETFROM:-0400
TZOFFSETTO:-0500
TZNAME:EST
DTSTART:20221106T060000
END:STANDARD
BEGIN:DAYLIGHT
TZOFFSETFROM:-0500
TZOFFSETTO:-0400
TZNAME:EDT
DTSTART:20230312T070000
END:DAYLIGHT
BEGIN:STANDARD
TZOFFSETFROM:-0400
TZOFFSETTO:-0500
TZNAME:EST
DTSTART:20231105T060000
END:STANDARD
BEGIN:DAYLIGHT
TZOFFSETFROM:-0500
TZOFFSETTO:-0400
TZNAME:EDT
DTSTART:20240310T070000
END:DAYLIGHT
BEGIN:STANDARD
TZOFFSETFROM:-0400
TZOFFSETTO:-0500
TZNAME:EST
DTSTART:20241103T060000
END:STANDARD
END:VTIMEZONE
BEGIN:VEVENT
DTSTART;TZID=America/Toronto:20230916T090000
DTEND;TZID=America/Toronto:20230916T190000
DTSTAMP:20260424T061759
CREATED:20230825T153614Z
LAST-MODIFIED:20230825T153614Z
UID:10000055-1694854800-1694890800@brockboardoftrade.com
SUMMARY:BBOT at Beaverton Fair
DESCRIPTION:
URL:https://brockboardoftrade.com/event/bbot-at-beaverton-fair-2/
LOCATION:Ontario
END:VEVENT
BEGIN:VEVENT
DTSTART;TZID=America/Toronto:20230915T120000
DTEND;TZID=America/Toronto:20230915T190000
DTSTAMP:20260424T061759
CREATED:20230825T153449Z
LAST-MODIFIED:20230825T153449Z
UID:10000054-1694779200-1694804400@brockboardoftrade.com
SUMMARY:BBOT at Beaverton Fair
DESCRIPTION:
URL:https://brockboardoftrade.com/event/bbot-at-beaverton-fair/
LOCATION:Ontario
END:VEVENT
BEGIN:VEVENT
DTSTART;TZID=America/Toronto:20230913T090000
DTEND;TZID=America/Toronto:20230913T190000
DTSTAMP:20260424T061759
CREATED:20230825T153050Z
LAST-MODIFIED:20230825T153050Z
UID:10000053-1694595600-1694631600@brockboardoftrade.com
SUMMARY:BBOT at Sunderland Fair
DESCRIPTION:
URL:https://brockboardoftrade.com/event/bbot-at-sunderland-fair-2/
LOCATION:Ontario
END:VEVENT
BEGIN:VEVENT
DTSTART;TZID=America/Toronto:20230912T170000
DTEND;TZID=America/Toronto:20230912T210000
DTSTAMP:20260424T061759
CREATED:20230825T152820Z
LAST-MODIFIED:20230825T152902Z
UID:10000052-1694538000-1694552400@brockboardoftrade.com
SUMMARY:BBOT at Sunderland Fair
DESCRIPTION:
URL:https://brockboardoftrade.com/event/bbot-at-sunderland-fair/
LOCATION:Ontario
END:VEVENT
BEGIN:VEVENT
DTSTART;TZID=America/Toronto:20230912T080000
DTEND;TZID=America/Toronto:20230912T093000
DTSTAMP:20260424T061759
CREATED:20230825T145209Z
LAST-MODIFIED:20230826T124658Z
UID:10000051-1694505600-1694511000@brockboardoftrade.com
SUMMARY:Networking Breakfast Meeting
DESCRIPTION:
URL:https://brockboardoftrade.com/event/networking-meeting-september-12th/
LOCATION:Stefan’s Bistro\, 390 Simcoe St\, Beaverton\, Ontario\, L0K 1A0\, Canada
CATEGORIES:Brock Board of Trade
ATTACH;FMTTYPE=image/jpeg:https://brockboardoftrade.com/wp-content/uploads/2023/07/Networking-1.jpg
END:VEVENT
BEGIN:VEVENT
DTSTART;TZID=America/Toronto:20230717T190000
DTEND;TZID=America/Toronto:20230717T210000
DTSTAMP:20260424T061759
CREATED:20230717T171727Z
LAST-MODIFIED:20230717T171727Z
UID:10000050-1689620400-1689627600@brockboardoftrade.com
SUMMARY:Board Meeting
DESCRIPTION:Sunderland Town Hall Auditorium
URL:https://brockboardoftrade.com/event/board-meeting-4/
LOCATION:Sunderland Town Hall\, 120 River St\, Sunderland\, Ontario\, L0C 1H0\, Canada
CATEGORIES:Brock Board of Trade
ATTACH;FMTTYPE=image/jpeg:https://brockboardoftrade.com/wp-content/uploads/2023/07/board-meeting.jpg
END:VEVENT
BEGIN:VEVENT
DTSTART;TZID=America/Toronto:20190920T080000
DTEND;TZID=America/Toronto:20190920T150000
DTSTAMP:20260424T061759
CREATED:20190705T133114Z
LAST-MODIFIED:20190705T133114Z
UID:10000041-1568966400-1568991600@brockboardoftrade.com
SUMMARY:Durham Private Public Partnership Emergency Management Symposium
DESCRIPTION:We can’t wait to share the good news\, the Durham Public Private Partnership (P3) Emergency Management Symposium is back at Deer Creek Golf and Banquet Facility on September 20\, 2019! \nNow that the agenda is live\, you can see what is in store for attendees including ten amazing speakers covering everything from floods\, fires and tornadoes to risk communication\, nuclear emergency preparedness and volunteer based emergency response. \nReserve your free spot today! To register\, visit durhamp3.eventbrite.ca. \nPlease let us know if your organization has brochures you would like to make available to attendees or a door prize to donate. \nIf you have questions\, please call our office at 905-430-2792 or email demo@durham.ca.
URL:https://brockboardoftrade.com/event/durham-private-public-partnership-emergency-management-symposium/
LOCATION:Ontario
ORGANIZER;CN="The Durham Emergency Management Office":MAILTO:demo@durham.ca.
END:VEVENT
BEGIN:VEVENT
DTSTART;TZID=America/Toronto:20190917T080000
DTEND;TZID=America/Toronto:20190917T100000
DTSTAMP:20260424T061759
CREATED:20190614T175832Z
LAST-MODIFIED:20190614T175832Z
UID:10000040-1568707200-1568714400@brockboardoftrade.com
SUMMARY:Brock Networking Group Meeting
DESCRIPTION:
URL:https://brockboardoftrade.com/event/brock-networking-group-meeting/
LOCATION:Ontario
END:VEVENT
BEGIN:VEVENT
DTSTART;VALUE=DATE:20190911
DTEND;VALUE=DATE:20190912
DTSTAMP:20260424T061759
CREATED:20190726T151827Z
LAST-MODIFIED:20190726T151827Z
UID:10000042-1568160000-1568246399@brockboardoftrade.com
SUMMARY:Council of Director’s Meeting
DESCRIPTION:
URL:https://brockboardoftrade.com/event/council-of-directors-meeting-3/
LOCATION:Ontario
END:VEVENT
BEGIN:VEVENT
DTSTART;VALUE=DATE:20190811
DTEND;VALUE=DATE:20190812
DTSTAMP:20260424T061759
CREATED:20190614T175703Z
LAST-MODIFIED:20190726T151531Z
UID:10000039-1565481600-1565567999@brockboardoftrade.com
SUMMARY:Brock Board of Trade Golf Tournament
DESCRIPTION:12pm Registration \n1pm Tee off Time
URL:https://brockboardoftrade.com/event/brock-board-of-trade-golf-tournament/
LOCATION:Cedarhurst Golf Club\, 825 Thorah Concession Rd 4\, Beaverton\, Ontario\, L0K 1A0\, Canada
END:VEVENT
BEGIN:VEVENT
DTSTART;TZID=America/Toronto:20190810T100000
DTEND;TZID=America/Toronto:20190810T160000
DTSTAMP:20260424T061759
CREATED:20190614T175519Z
LAST-MODIFIED:20190614T175519Z
UID:10000038-1565431200-1565452800@brockboardoftrade.com
SUMMARY:Brock's Big Bite
DESCRIPTION:The traditional ‘long lunch’ prepared by volunteer chefs from local business and community organizations will feature fresh local food.  The meal will be served from 12 pm to 2 pm advance ticket purchase is recommended.  See our EATS page for menu details.  Tickets will be available online through our TICKETS page as well as from a variety of Brock businesses.
URL:https://brockboardoftrade.com/event/brocks-big-bite/
LOCATION:Downtown Beaverton\, Simcoe Street\, Beaverton\, Ontario\, L0K1A0\, Canada
END:VEVENT
BEGIN:VEVENT
DTSTART;VALUE=DATE:20190716
DTEND;VALUE=DATE:20190717
DTSTAMP:20260424T061759
CREATED:20190614T174641Z
LAST-MODIFIED:20190614T174641Z
UID:10000037-1563235200-1563321599@brockboardoftrade.com
SUMMARY:BBOT Member Appreciation Event
DESCRIPTION:
URL:https://brockboardoftrade.com/event/bbot-member-appreciation-event/
LOCATION:Ontario
END:VEVENT
BEGIN:VEVENT
DTSTART;VALUE=DATE:20190701
DTEND;VALUE=DATE:20190702
DTSTAMP:20260424T061759
CREATED:20190614T174526Z
LAST-MODIFIED:20190614T174526Z
UID:10000036-1561939200-1562025599@brockboardoftrade.com
SUMMARY:Cannington Lions Canada Day Celebration
DESCRIPTION:Celebrate Canada’s Birthday – Rides\, Inflatables\, Classic and Custom Car & Truck Show\, Fireworks\, BBQ and Concession area and more.. all rides and activities are FREE!
URL:https://brockboardoftrade.com/event/cannington-lions-canada-day-celebration/
LOCATION:Macleod Park\, 72 Peace Street\, Cannington\, Ontario\, L0E1E0\, Canada
END:VEVENT
BEGIN:VEVENT
DTSTART;VALUE=DATE:20190701
DTEND;VALUE=DATE:20190702
DTSTAMP:20260424T061759
CREATED:20190614T173412Z
LAST-MODIFIED:20190614T173412Z
UID:10000035-1561939200-1562025599@brockboardoftrade.com
SUMMARY:Beaverton Lions Canada Day Celebration
DESCRIPTION:Celebrate Canada’s Birthday – Pancake Breakfast\, Kids Cane Pole Fishing Contest\, Musical entertainment\, vendors and artisans\, children’s games and activities with face painting\, bouncy castles\, mini putt\, parade\, charity BBQ\, Strawberry Shortcake\, Harold Lodwick Citizenship Award\, Museum displays and more.. all children’s activities and games are FREE!
URL:https://brockboardoftrade.com/event/beaverton-lions-canada-day-celebration/
LOCATION:Beaverton Fairgrounds\, 176 Main Street\, Beaverton\, Ontario\, L0K 1A0\, Canada
END:VEVENT
BEGIN:VEVENT
DTSTART;TZID=America/Toronto:20190618T080000
DTEND;TZID=America/Toronto:20190618T100000
DTSTAMP:20260424T061759
CREATED:20190614T170011Z
LAST-MODIFIED:20190614T170011Z
UID:10000034-1560844800-1560852000@brockboardoftrade.com
SUMMARY:Brock Networking Group
DESCRIPTION:Join us on Tuesday June 18th at  8am at the Nourish Community Hub in Cannington for a delicious breakfast and networking meeting. \nRobert (Rob) Freve from TD Bank will be presenting on Fraud Prevention “Staying Ahead of Payments Fraud” \nA discussion on fraud awareness and preventative measures to protecting your business assets in today’s environment. \n$10 per person at the door and this includes breakfast.
URL:https://brockboardoftrade.com/event/brock-networking-group-3/
LOCATION:The Nourish and Develop Foundation\, 16 York Street\, Cannington\, Ontario\, L0E 1E0\, Canada
CATEGORIES:Brock Board of Trade
END:VEVENT
BEGIN:VEVENT
DTSTART;TZID=America/Toronto:20190612T190000
DTEND;TZID=America/Toronto:20190612T210000
DTSTAMP:20260424T061759
CREATED:20190611T013738Z
LAST-MODIFIED:20190611T013738Z
UID:10000033-1560366000-1560373200@brockboardoftrade.com
SUMMARY:Council of Director’s Meeting
DESCRIPTION:7 pm – Wednesday June 12\, 2019 \nSunderland Legion \n 
URL:https://brockboardoftrade.com/event/council-of-directors-meeting-2/
LOCATION:Sunderland Legion\, 104 River Street\, Sunderland\, Ontario\, L0C 1H0\, Canada
END:VEVENT
BEGIN:VEVENT
DTSTART;TZID=America/Toronto:20181212T190000
DTEND;TZID=America/Toronto:20181212T210000
DTSTAMP:20260424T061759
CREATED:20180402T212038Z
LAST-MODIFIED:20180402T212038Z
UID:10000026-1544641200-1544648400@brockboardoftrade.com
SUMMARY:Council of Director's Monthly Meeting
DESCRIPTION:Our final 2018 monthly Council of Director’s meeting.
URL:https://brockboardoftrade.com/event/council-of-directors-monthly-meeting-12/
LOCATION:Beaverton Old Town Hall\, 397 Simcoe Street\, Beaverton\, Ontario\, L0K 1A0\, Canada
END:VEVENT
BEGIN:VEVENT
DTSTART;TZID=America/Toronto:20181114T190000
DTEND;TZID=America/Toronto:20181114T210000
DTSTAMP:20260424T061759
CREATED:20180402T211925Z
LAST-MODIFIED:20180402T211925Z
UID:10000025-1542222000-1542229200@brockboardoftrade.com
SUMMARY:Council of Director's Monthly Meeting
DESCRIPTION:Our Council of Director’s Monthly meeting.
URL:https://brockboardoftrade.com/event/council-of-directors-monthly-meeting-11/
LOCATION:Ontario
END:VEVENT
BEGIN:VEVENT
DTSTART;TZID=America/Toronto:20181010T190000
DTEND;TZID=America/Toronto:20181010T210000
DTSTAMP:20260424T061759
CREATED:20180402T211754Z
LAST-MODIFIED:20180402T211754Z
UID:10000024-1539198000-1539205200@brockboardoftrade.com
SUMMARY:Council of Director's Monthly Meeting
DESCRIPTION:Our monthly Council of Director’s meeting.
URL:https://brockboardoftrade.com/event/council-of-directors-monthly-meeting-10/
LOCATION:Ontario
END:VEVENT
BEGIN:VEVENT
DTSTART;VALUE=DATE:20180920
DTEND;VALUE=DATE:20180921
DTSTAMP:20260424T061759
CREATED:20180727T183854Z
LAST-MODIFIED:20180727T183854Z
UID:10000032-1537401600-1537487999@brockboardoftrade.com
SUMMARY:Tourism Now Workshop
DESCRIPTION:
URL:https://brockboardoftrade.com/event/tourism-now-workshop/
LOCATION:Ontario
END:VEVENT
BEGIN:VEVENT
DTSTART;TZID=America/Toronto:20180912T190000
DTEND;TZID=America/Toronto:20180912T210000
DTSTAMP:20260424T061759
CREATED:20180402T211643Z
LAST-MODIFIED:20180402T211643Z
UID:10000023-1536778800-1536786000@brockboardoftrade.com
SUMMARY:Council of Director's Monthly Meeting
DESCRIPTION:Our monthly Council of Director’s meeting.
URL:https://brockboardoftrade.com/event/council-of-directors-monthly-meeting-9/
LOCATION:Beaverton Old Town Hall\, 397 Simcoe Street\, Beaverton\, Ontario\, L0K 1A0\, Canada
ORGANIZER;CN="Brock Board of Trade":MAILTO:brockboardoftrade@gmail.com
END:VEVENT
BEGIN:VEVENT
DTSTART;VALUE=DATE:20180912
DTEND;VALUE=DATE:20180913
DTSTAMP:20260424T061759
CREATED:20180727T183745Z
LAST-MODIFIED:20180727T183745Z
UID:10000031-1536710400-1536796799@brockboardoftrade.com
SUMMARY:Regional Chair Candidates Meeting
DESCRIPTION:
URL:https://brockboardoftrade.com/event/regional-chair-candidates-meeting/
LOCATION:Ontario
END:VEVENT
BEGIN:VEVENT
DTSTART;VALUE=DATE:20180819
DTEND;VALUE=DATE:20180820
DTSTAMP:20260424T061759
CREATED:20180727T183557Z
LAST-MODIFIED:20180727T183557Z
UID:10000030-1534636800-1534723199@brockboardoftrade.com
SUMMARY:Annual BBOT Golf Tournament
DESCRIPTION:
URL:https://brockboardoftrade.com/event/annual-bbot-golf-tournament/
LOCATION:Cedarhurst Golf Club\, 825 Thorah Concession Rd 4\, Beaverton\, Ontario\, L0K 1A0\, Canada
END:VEVENT
BEGIN:VEVENT
DTSTART;TZID=America/Toronto:20180808T190000
DTEND;TZID=America/Toronto:20180808T210000
DTSTAMP:20260424T061759
CREATED:20180402T211534Z
LAST-MODIFIED:20180402T211534Z
UID:10000022-1533754800-1533762000@brockboardoftrade.com
SUMMARY:Council of Director's Monthly Meeting
DESCRIPTION:Our monthly BBOT meeting.
URL:https://brockboardoftrade.com/event/council-of-directors-monthly-meeting-8/
LOCATION:Ontario
ORGANIZER;CN="Brock Board of Trade":MAILTO:brockboardoftrade@gmail.com
END:VEVENT
BEGIN:VEVENT
DTSTART;TZID=America/Toronto:20180711T190000
DTEND;TZID=America/Toronto:20180711T210000
DTSTAMP:20260424T061759
CREATED:20180402T211415Z
LAST-MODIFIED:20180402T211415Z
UID:10000021-1531335600-1531342800@brockboardoftrade.com
SUMMARY:Council of Director's Monthly Meeting
DESCRIPTION:Our monthly BBOT Council of Director’s meeting.
URL:https://brockboardoftrade.com/event/council-of-directors-monthly-meeting-7/
LOCATION:Ontario
END:VEVENT
BEGIN:VEVENT
DTSTART;TZID=America/Toronto:20180613T190000
DTEND;TZID=America/Toronto:20180613T210000
DTSTAMP:20260424T061759
CREATED:20180402T211250Z
LAST-MODIFIED:20180402T211250Z
UID:10000020-1528916400-1528923600@brockboardoftrade.com
SUMMARY:Council of Director's Monthly Meeting
DESCRIPTION:Our monthly Council of Director’s meeting.
URL:https://brockboardoftrade.com/event/council-of-directors-monthly-meeting-6/
LOCATION:Beaverton Old Town Hall\, 397 Simcoe Street\, Beaverton\, Ontario\, L0K 1A0\, Canada
ORGANIZER;CN="Brock Board of Trade":MAILTO:brockboardoftrade@gmail.com
END:VEVENT
BEGIN:VEVENT
DTSTART;TZID=America/Toronto:20180523T000000
DTEND;TZID=America/Toronto:20180523T000000
DTSTAMP:20260424T061759
CREATED:20180402T213407Z
LAST-MODIFIED:20180402T213407Z
UID:10000029-1527033600-1527033600@brockboardoftrade.com
SUMMARY:13 Ways to Kill Your Community Event
DESCRIPTION:Doug Griffiths is coming to Uxbridge on Wednesday\, May 23\, when\, through his keynote address\, he will empower and inspire attendees to be engaged in the life and development of their community. \nThe motivation for the book “13 Ways to Kill Your Community” was created by Mr. Griffiths’ relentless travel to and study of\nrural communities\, where he noticed some recurring behaviours that were potentially detrimental to those\ncommunities. His “reverse psychology” approach to these behaviours makes for a light-hearted and entertaining read\,\nand his message is ultimately not one of destruction\, but of empowerment to everyone who reads and listens to what\nhe has to say. “13 Ways” has earned Doug Griffiths a reputation as a “community therapist\,” and he is in high\ndemand as a speaker throughout both Canada and the United States. \nFurther details TBD. \n 
URL:https://brockboardoftrade.com/event/13-ways-to-kill-your-community-event/
LOCATION:Ontario
END:VEVENT
BEGIN:VEVENT
DTSTART;TZID=America/Toronto:20180509T190000
DTEND;TZID=America/Toronto:20180509T210000
DTSTAMP:20260424T061759
CREATED:20180402T211127Z
LAST-MODIFIED:20180402T211127Z
UID:10000019-1525892400-1525899600@brockboardoftrade.com
SUMMARY:Council of Director's Monthly Meeting
DESCRIPTION:Our monthly Brock Board of Trade Council of Director’s meeting. \nThese meetings are closed to the public\, but should you wish to attend\, or present at one\, please simply let us know!
URL:https://brockboardoftrade.com/event/council-of-directors-monthly-meeting-5/
LOCATION:Ontario
ORGANIZER;CN="Brock Board of Trade":MAILTO:brockboardoftrade@gmail.com
END:VEVENT
BEGIN:VEVENT
DTSTART;TZID=America/Toronto:20180425T183000
DTEND;TZID=America/Toronto:20180425T210000
DTSTAMP:20260424T061759
CREATED:20180402T212507Z
LAST-MODIFIED:20180402T212507Z
UID:10000027-1524681000-1524690000@brockboardoftrade.com
SUMMARY:Pampered Portrait Party
DESCRIPTION:Join us for an amazing opportunity to update or get your first professional headshot for your organization or business.  You are the face of your business\, and this event is designed to immediately enhance your on-line profile and visibility in the community.  Your session includes: \n\n3 headshots\nHair and make-up touch-ups\nNetworking and light refreshments\n\nThis is an incredible price for huge value to your business! \nRSVP to book your spot by emailing:  katie.sauren@outlook.com.
URL:https://brockboardoftrade.com/event/pampered-portrait-party/
LOCATION:The Nourish and Develop Foundation\, 16 York Street\, Cannington\, Ontario\, L0E 1E0\, Canada
END:VEVENT
BEGIN:VEVENT
DTSTART;TZID=America/Toronto:20180425T073000
DTEND;TZID=America/Toronto:20180425T093000
DTSTAMP:20260424T061759
CREATED:20180402T212913Z
LAST-MODIFIED:20180402T212913Z
UID:10000028-1524641400-1524648600@brockboardoftrade.com
SUMMARY:Mayor's Business Breakfast
DESCRIPTION:Mayor’s Networking Business Breakfast\nThe 2018 Spring Mayor’s Networking Business Breakfast will be held on Wednesday\, April 25 at the Beaverton Thorah Community Centre in Beaverton. An bi-annual event held by the Mayor and members of Council in conjunction with the Brock Economic Development Advisory Committee\, in which businesses in the Township are invited to attend this free event to network and be updated on current planning and economic initiatives taking place in the Township. \nWednesday\, April 25\, 2018\n7:30 a.m. – 9:30 a.m.\nBeaverton Thorah Community Centre\n176 Main Street\, Beaverton\nRegistration will start at 7:15 a.m. \nRegister today for the 2018 Spring Mayor’s Networking Business Breakfast!
URL:https://brockboardoftrade.com/event/mayors-business-breakfast/
LOCATION:Beaverton Arena\, 176 Main Street\, Beaverton\, Ontario\, L0K 1A0\, Canada
END:VEVENT
END:VCALENDAR