BEGIN:VCALENDAR
VERSION:2.0
PRODID:-//Brock Board of Trade - ECPv6.15.20//NONSGML v1.0//EN
CALSCALE:GREGORIAN
METHOD:PUBLISH
X-WR-CALNAME:Brock Board of Trade
X-ORIGINAL-URL:https://brockboardoftrade.com
X-WR-CALDESC:Events for Brock Board of Trade
REFRESH-INTERVAL;VALUE=DURATION:PT1H
X-Robots-Tag:noindex
X-PUBLISHED-TTL:PT1H
BEGIN:VTIMEZONE
TZID:America/Toronto
BEGIN:DAYLIGHT
TZOFFSETFROM:-0500
TZOFFSETTO:-0400
TZNAME:EDT
DTSTART:20160313T070000
END:DAYLIGHT
BEGIN:STANDARD
TZOFFSETFROM:-0400
TZOFFSETTO:-0500
TZNAME:EST
DTSTART:20161106T060000
END:STANDARD
BEGIN:DAYLIGHT
TZOFFSETFROM:-0500
TZOFFSETTO:-0400
TZNAME:EDT
DTSTART:20170312T070000
END:DAYLIGHT
BEGIN:STANDARD
TZOFFSETFROM:-0400
TZOFFSETTO:-0500
TZNAME:EST
DTSTART:20171105T060000
END:STANDARD
BEGIN:DAYLIGHT
TZOFFSETFROM:-0500
TZOFFSETTO:-0400
TZNAME:EDT
DTSTART:20180311T070000
END:DAYLIGHT
BEGIN:STANDARD
TZOFFSETFROM:-0400
TZOFFSETTO:-0500
TZNAME:EST
DTSTART:20181104T060000
END:STANDARD
BEGIN:DAYLIGHT
TZOFFSETFROM:-0500
TZOFFSETTO:-0400
TZNAME:EDT
DTSTART:20190310T070000
END:DAYLIGHT
BEGIN:STANDARD
TZOFFSETFROM:-0400
TZOFFSETTO:-0500
TZNAME:EST
DTSTART:20191103T060000
END:STANDARD
END:VTIMEZONE
BEGIN:VEVENT
DTSTART;TZID=America/Toronto:20180711T190000
DTEND;TZID=America/Toronto:20180711T210000
DTSTAMP:20260424T063950
CREATED:20180402T211415Z
LAST-MODIFIED:20180402T211415Z
UID:10000021-1531335600-1531342800@brockboardoftrade.com
SUMMARY:Council of Director's Monthly Meeting
DESCRIPTION:Our monthly BBOT Council of Director’s meeting.
URL:https://brockboardoftrade.com/event/council-of-directors-monthly-meeting-7/
LOCATION:Ontario
END:VEVENT
BEGIN:VEVENT
DTSTART;TZID=America/Toronto:20180613T190000
DTEND;TZID=America/Toronto:20180613T210000
DTSTAMP:20260424T063950
CREATED:20180402T211250Z
LAST-MODIFIED:20180402T211250Z
UID:10000020-1528916400-1528923600@brockboardoftrade.com
SUMMARY:Council of Director's Monthly Meeting
DESCRIPTION:Our monthly Council of Director’s meeting.
URL:https://brockboardoftrade.com/event/council-of-directors-monthly-meeting-6/
LOCATION:Beaverton Old Town Hall\, 397 Simcoe Street\, Beaverton\, Ontario\, L0K 1A0\, Canada
ORGANIZER;CN="Brock Board of Trade":MAILTO:brockboardoftrade@gmail.com
END:VEVENT
BEGIN:VEVENT
DTSTART;TZID=America/Toronto:20180523T000000
DTEND;TZID=America/Toronto:20180523T000000
DTSTAMP:20260424T063950
CREATED:20180402T213407Z
LAST-MODIFIED:20180402T213407Z
UID:10000029-1527033600-1527033600@brockboardoftrade.com
SUMMARY:13 Ways to Kill Your Community Event
DESCRIPTION:Doug Griffiths is coming to Uxbridge on Wednesday\, May 23\, when\, through his keynote address\, he will empower and inspire attendees to be engaged in the life and development of their community. \nThe motivation for the book “13 Ways to Kill Your Community” was created by Mr. Griffiths’ relentless travel to and study of\nrural communities\, where he noticed some recurring behaviours that were potentially detrimental to those\ncommunities. His “reverse psychology” approach to these behaviours makes for a light-hearted and entertaining read\,\nand his message is ultimately not one of destruction\, but of empowerment to everyone who reads and listens to what\nhe has to say. “13 Ways” has earned Doug Griffiths a reputation as a “community therapist\,” and he is in high\ndemand as a speaker throughout both Canada and the United States. \nFurther details TBD. \n 
URL:https://brockboardoftrade.com/event/13-ways-to-kill-your-community-event/
LOCATION:Ontario
END:VEVENT
BEGIN:VEVENT
DTSTART;TZID=America/Toronto:20180509T190000
DTEND;TZID=America/Toronto:20180509T210000
DTSTAMP:20260424T063950
CREATED:20180402T211127Z
LAST-MODIFIED:20180402T211127Z
UID:10000019-1525892400-1525899600@brockboardoftrade.com
SUMMARY:Council of Director's Monthly Meeting
DESCRIPTION:Our monthly Brock Board of Trade Council of Director’s meeting. \nThese meetings are closed to the public\, but should you wish to attend\, or present at one\, please simply let us know!
URL:https://brockboardoftrade.com/event/council-of-directors-monthly-meeting-5/
LOCATION:Ontario
ORGANIZER;CN="Brock Board of Trade":MAILTO:brockboardoftrade@gmail.com
END:VEVENT
BEGIN:VEVENT
DTSTART;TZID=America/Toronto:20180425T183000
DTEND;TZID=America/Toronto:20180425T210000
DTSTAMP:20260424T063950
CREATED:20180402T212507Z
LAST-MODIFIED:20180402T212507Z
UID:10000027-1524681000-1524690000@brockboardoftrade.com
SUMMARY:Pampered Portrait Party
DESCRIPTION:Join us for an amazing opportunity to update or get your first professional headshot for your organization or business.  You are the face of your business\, and this event is designed to immediately enhance your on-line profile and visibility in the community.  Your session includes: \n\n3 headshots\nHair and make-up touch-ups\nNetworking and light refreshments\n\nThis is an incredible price for huge value to your business! \nRSVP to book your spot by emailing:  katie.sauren@outlook.com.
URL:https://brockboardoftrade.com/event/pampered-portrait-party/
LOCATION:The Nourish and Develop Foundation\, 16 York Street\, Cannington\, Ontario\, L0E 1E0\, Canada
END:VEVENT
BEGIN:VEVENT
DTSTART;TZID=America/Toronto:20180425T073000
DTEND;TZID=America/Toronto:20180425T093000
DTSTAMP:20260424T063950
CREATED:20180402T212913Z
LAST-MODIFIED:20180402T212913Z
UID:10000028-1524641400-1524648600@brockboardoftrade.com
SUMMARY:Mayor's Business Breakfast
DESCRIPTION:Mayor’s Networking Business Breakfast\nThe 2018 Spring Mayor’s Networking Business Breakfast will be held on Wednesday\, April 25 at the Beaverton Thorah Community Centre in Beaverton. An bi-annual event held by the Mayor and members of Council in conjunction with the Brock Economic Development Advisory Committee\, in which businesses in the Township are invited to attend this free event to network and be updated on current planning and economic initiatives taking place in the Township. \nWednesday\, April 25\, 2018\n7:30 a.m. – 9:30 a.m.\nBeaverton Thorah Community Centre\n176 Main Street\, Beaverton\nRegistration will start at 7:15 a.m. \nRegister today for the 2018 Spring Mayor’s Networking Business Breakfast!
URL:https://brockboardoftrade.com/event/mayors-business-breakfast/
LOCATION:Beaverton Arena\, 176 Main Street\, Beaverton\, Ontario\, L0K 1A0\, Canada
END:VEVENT
BEGIN:VEVENT
DTSTART;TZID=America/Toronto:20180417T074500
DTEND;TZID=America/Toronto:20180417T100000
DTSTAMP:20260424T063950
CREATED:20180402T201022Z
LAST-MODIFIED:20180402T205501Z
UID:10000017-1523951100-1523959200@brockboardoftrade.com
SUMMARY:April Brock Networking Group Meeting
DESCRIPTION:Join us for our monthly networking meeting.  Eat\, share your marketing materials and network with other local businesses.
URL:https://brockboardoftrade.com/event/april-brock-networking-group-meeting/
LOCATION:The Nourish and Develop Foundation\, 16 York Street\, Cannington\, Ontario\, L0E 1E0\, Canada
END:VEVENT
BEGIN:VEVENT
DTSTART;TZID=America/Toronto:20180411T190000
DTEND;TZID=America/Toronto:20180411T210000
DTSTAMP:20260424T063950
CREATED:20180402T210841Z
LAST-MODIFIED:20180402T210841Z
UID:10000018-1523473200-1523480400@brockboardoftrade.com
SUMMARY:Council of Director's Monthly Meeting
DESCRIPTION:Our monthly Brock Board of Trade Council of Director’s meeting. \nThese meetings are closed to the public\, but should you wish to attend\, or present at one\, please simply let us know!
URL:https://brockboardoftrade.com/event/council-of-directors-monthly-meeting-4/
LOCATION:Ontario
ORGANIZER;CN="Brock Board of Trade":MAILTO:brockboardoftrade@gmail.com
END:VEVENT
BEGIN:VEVENT
DTSTART;TZID=America/Toronto:20180221T183000
DTEND;TZID=America/Toronto:20180221T210000
DTSTAMP:20260424T063950
CREATED:20180111T160050Z
LAST-MODIFIED:20180111T160050Z
UID:10000016-1519237800-1519246800@brockboardoftrade.com
SUMMARY:Brock Business Networking Event and BBOT AGM
DESCRIPTION:An evening of networking\, food\, speakers and our Annual General Meeting.  This event is $10 per person\, starting at 6:30pm. \nFor BBOT members wanting to only attend the AGM portion of the evening\, we will begin the formal meeting at 8pm free of charge. \nRSVP by February 16 to brockboardoftrade@gmail.com.
URL:https://brockboardoftrade.com/event/brock-business-networking-event-and-bbot-agm/
LOCATION:Sunderland Legion\, 104 River Street\, Sunderland\, Ontario\, L0C 1H0\, Canada
END:VEVENT
BEGIN:VEVENT
DTSTART;TZID=America/Toronto:20180207T190000
DTEND;TZID=America/Toronto:20180207T210000
DTSTAMP:20260424T063950
CREATED:20180111T155637Z
LAST-MODIFIED:20180111T155637Z
UID:10000015-1518030000-1518037200@brockboardoftrade.com
SUMMARY:Council of Directors Monthly Meeting
DESCRIPTION:Our month meeting of the Brock Board of Trade Council of Directors.
URL:https://brockboardoftrade.com/event/council-of-directors-monthly-meeting-3/
LOCATION:Ontario
END:VEVENT
BEGIN:VEVENT
DTSTART;TZID=America/Toronto:20180110T190000
DTEND;TZID=America/Toronto:20180110T210000
DTSTAMP:20260424T063950
CREATED:20180111T155514Z
LAST-MODIFIED:20180111T155536Z
UID:10000014-1515610800-1515618000@brockboardoftrade.com
SUMMARY:Council of Directors Monthly Meeting
DESCRIPTION:Our monthly meeting of the Brock Board of Trade Council of Directors. \n 
URL:https://brockboardoftrade.com/event/council-of-directors-monthly-meeting-2/
LOCATION:Brock Board of Trade Office\, 397 Simcoe Street\, Beaverton\, Ontario\, L0K 1A0
END:VEVENT
BEGIN:VEVENT
DTSTART;TZID=America/Toronto:20171018T073000
DTEND;TZID=America/Toronto:20171018T093000
DTSTAMP:20260424T063950
CREATED:20170918T174422Z
LAST-MODIFIED:20170918T174504Z
UID:10000013-1508311800-1508319000@brockboardoftrade.com
SUMMARY:2017 Fall Mayor's Networking Business Breakfast
DESCRIPTION:A bi-annual event held by the Mayor and members of Council in conjunction with the Brock Economic Development Advisory Committee\, in which businesses in the Township are invited to attend this free event to network\, be updated on current planning and economic initiatives taking place in the Township\, and learn about business services and funding opportunities available.
URL:https://brockboardoftrade.com/event/2017-fall-mayors-business-networking-breakfast/
LOCATION:Rick MacLeish Memorial Community Centre\, 19 Elliott Street\, Cannington\, Ontario\, L0E 1E0
END:VEVENT
BEGIN:VEVENT
DTSTART;VALUE=DATE:20171015
DTEND;VALUE=DATE:20171022
DTSTAMP:20260424T063950
CREATED:20170910T141321Z
LAST-MODIFIED:20170910T141321Z
UID:10000005-1508025600-1508630399@brockboardoftrade.com
SUMMARY:Small Business Week
DESCRIPTION:Celebrating Small Businesses in Ontario
URL:https://brockboardoftrade.com/event/small-business-week/
LOCATION:Ontario
END:VEVENT
BEGIN:VEVENT
DTSTART;TZID=America/Toronto:20171011T163000
DTEND;TZID=America/Toronto:20171011T203000
DTSTAMP:20260424T063950
CREATED:20170918T124406Z
LAST-MODIFIED:20170918T124406Z
UID:10000011-1507739400-1507753800@brockboardoftrade.com
SUMMARY:North Durham Building Business Forum (BBF)
DESCRIPTION:Register today! The event is free and seating is limited. RSVP to reserve your seat! https://2017northdurhambbf.eventbrite.ca    \nBe prepared to be inspired! 2017 marks the 6th annual BBF and we will feature fresh ideas: \n\nHigh energy Ignite Sessions with six different north Durham business owners showcasing and sharing their story of “Making it on Main Street” including successes and challenges faced throughout their entrepreneurial journey\nFacilitated networking sessions led by the Business Advisory Centre Durham\, this is an opportunity to get to know fellow north Durham business owners and entrepreneurs\nAn opportunity to showcase new ideas\, products and business in a dedicated location at the BBF\n\nThe theme of the event this year is “Making it on Main Street”. Business owners will share about how they have grown to be successful in their small town. \nThe event is hosted by the Economic Development Advisory Committees of the townships of Uxbridge\, Scugog and Brock\, in partnership with the Regional Municipality of Durham.
URL:https://brockboardoftrade.com/event/north-durham-building-business-forum-bbf/
LOCATION:Blackstock\, 3440 Church Street\, Blackstock\, Ontario\, L0B 1E0\, Canada
END:VEVENT
BEGIN:VEVENT
DTSTART;TZID=America/Toronto:20171010T190000
DTEND;TZID=America/Toronto:20171010T210000
DTSTAMP:20260424T063950
CREATED:20170918T174128Z
LAST-MODIFIED:20170918T174128Z
UID:10000012-1507662000-1507669200@brockboardoftrade.com
SUMMARY:Council of Director's Meeting
DESCRIPTION:
URL:https://brockboardoftrade.com/event/council-of-directors-meeting/
LOCATION:Brock Board of Trade Office\, 397 Simcoe Street\, Beaverton\, Ontario\, L0K 1A0
END:VEVENT
BEGIN:VEVENT
DTSTART;TZID=America/Toronto:20170929T140000
DTEND;TZID=America/Toronto:20170929T163000
DTSTAMP:20260424T063950
CREATED:20170911T124439Z
LAST-MODIFIED:20170911T124439Z
UID:10000010-1506693600-1506702600@brockboardoftrade.com
SUMMARY:South Lake Futures’ 2017 Annual Stakeholders’ Meeting
DESCRIPTION:This is our annual opportunity to report to community members and other stakeholders on our activities and achievements\, and an opportunity for you to learn more about how we might be able to work with you to grow either the local economic capacity or a specific business.
URL:https://brockboardoftrade.com/event/south-lake-futures-2017-annual-stakeholders-meeting/
LOCATION:The Link\, 20849 Dalton Road\, Suttong\, Ontario\, Canada
ORGANIZER;CN="South Lake CFDC":MAILTO:smtmartin@bellnet.ca
END:VEVENT
BEGIN:VEVENT
DTSTART;TZID=America/Toronto:20170919T080000
DTEND;TZID=America/Toronto:20170919T093000
DTSTAMP:20260424T063950
CREATED:20170910T142059Z
LAST-MODIFIED:20170910T142059Z
UID:10000007-1505808000-1505813400@brockboardoftrade.com
SUMMARY:Brock Networking Group
DESCRIPTION:Join us at our monthly networking group to get your business SEEN\, HEARD and CONNECTED in Brock Township.  Meetings are held on the third Tuesday morning of every month and are on a rotation at various locations between the Towns of Sunderland\, Cannington and Beaverton.
URL:https://brockboardoftrade.com/event/brock-networking-group-2/
LOCATION:Sunderland Co-Op\, 1 River Street P.O. Box 280\, Sunderland\, Ontario\, L0C 1H0\, Canada
END:VEVENT
BEGIN:VEVENT
DTSTART;VALUE=DATE:20170915
DTEND;VALUE=DATE:20170918
DTSTAMP:20260424T063950
CREATED:20170910T143117Z
LAST-MODIFIED:20170910T143117Z
UID:10000009-1505433600-1505692799@brockboardoftrade.com
SUMMARY:Beaverton Fall Fair
DESCRIPTION:Celebrate the Beaverton Fall Fair!  Shows\, vendors\, bouncy castles and the demolition derby…
URL:https://brockboardoftrade.com/event/beaverton-fall-fair/
LOCATION:Beaverton Fairgrounds\, 176 Main Street\, Beaverton\, Ontario\, L0K 1A0\, Canada
END:VEVENT
BEGIN:VEVENT
DTSTART;TZID=America/Toronto:20170913T190000
DTEND;TZID=America/Toronto:20170913T210000
DTSTAMP:20260424T063950
CREATED:20170910T141742Z
LAST-MODIFIED:20170910T141801Z
UID:10000006-1505329200-1505336400@brockboardoftrade.com
SUMMARY:Council of Directors BBOT Meeting
DESCRIPTION:Monthly meeting of the Brock Board of Trade Council of Directors.  Meetings are held in rotation between locations in Sunderland\, Cannington and Beaverton.
URL:https://brockboardoftrade.com/event/council-of-directors-bbot-meeting/
LOCATION:Sunderland Co-Op\, 1 River Street P.O. Box 280\, Sunderland\, Ontario\, L0C 1H0\, Canada
ORGANIZER;CN="Brock Board of Trade":MAILTO:brockboardoftrade@gmail.com
END:VEVENT
BEGIN:VEVENT
DTSTART;VALUE=DATE:20170912
DTEND;VALUE=DATE:20170914
DTSTAMP:20260424T063950
CREATED:20170910T142844Z
LAST-MODIFIED:20170910T142844Z
UID:10000008-1505174400-1505347199@brockboardoftrade.com
SUMMARY:Sunderland Fall Fair
DESCRIPTION:Help celebrate the 166th Sunderland Fall Fair!!!
URL:https://brockboardoftrade.com/event/sunderland-fall-fair/
LOCATION:Sunderland Arena\, 20 Park Street\, Sunderland\, ONtario\, L0C1H0\, Canada
END:VEVENT
BEGIN:VEVENT
DTSTART;TZID=America/Toronto:20170823T120000
DTEND;TZID=America/Toronto:20170823T210000
DTSTAMP:20260424T063950
CREATED:20170529T210517Z
LAST-MODIFIED:20170807T152027Z
UID:10000002-1503489600-1503522000@brockboardoftrade.com
SUMMARY:BBOT Best Ball Golf Tournament
DESCRIPTION:The Brock Board of Trade’s 2nd Annual Best Ball Golf Tournament. A fun tournament to support BBOT programming. Get your business seen by sponsoring a hole and coming out to play! Not a golfer? No problem… join us for a delicious 4-course dinner. \n$110.00 per player\n$440.00 per foursome\n$150.00 per hole sponsorship\n$30 dinner only \nBEST VALUE! $500 for a foursome and hole sponsorship – a $90 savings and a great way to get your business SEEN! \nContact: Terry Clayton 705-426-7104 \nRegister On-Line \nRegistration Closes: Friday August 11\, 2017
URL:https://brockboardoftrade.com/event/bbot-best-ball-gold-tournament/
LOCATION:Cedarhurst Golf Club\, 825 Thorah Concession Rd 4\, Beaverton\, Ontario\, L0K 1A0\, Canada
END:VEVENT
BEGIN:VEVENT
DTSTART;TZID=America/Toronto:20170815T080000
DTEND;TZID=America/Toronto:20170815T100000
DTSTAMP:20260424T063950
CREATED:20170807T150856Z
LAST-MODIFIED:20170807T150856Z
UID:10000004-1502784000-1502791200@brockboardoftrade.com
SUMMARY:Brock Networking Group
DESCRIPTION:Join us for our monthly networking meeting to get your business SEEN\, HEARD and CONNECTED.  $10 pp at the door and this includes your breakfast!
URL:https://brockboardoftrade.com/event/brock-networking-group/
LOCATION:Ontario
END:VEVENT
BEGIN:VEVENT
DTSTART;TZID=America/Toronto:20170809T190000
DTEND;TZID=America/Toronto:20170809T210000
DTSTAMP:20260424T063950
CREATED:20170807T150620Z
LAST-MODIFIED:20170807T150620Z
UID:10000003-1502305200-1502312400@brockboardoftrade.com
SUMMARY:Council of Directors Monthly Meeting
DESCRIPTION:
URL:https://brockboardoftrade.com/event/council-of-directors-monthly-meeting/
LOCATION:Ontario
END:VEVENT
END:VCALENDAR