BEGIN:VCALENDAR
VERSION:2.0
PRODID:-//Brock Board of Trade - ECPv6.15.20//NONSGML v1.0//EN
CALSCALE:GREGORIAN
METHOD:PUBLISH
X-WR-CALNAME:Brock Board of Trade
X-ORIGINAL-URL:https://brockboardoftrade.com
X-WR-CALDESC:Events for Brock Board of Trade
REFRESH-INTERVAL;VALUE=DURATION:PT1H
X-Robots-Tag:noindex
X-PUBLISHED-TTL:PT1H
BEGIN:VTIMEZONE
TZID:America/Toronto
BEGIN:DAYLIGHT
TZOFFSETFROM:-0500
TZOFFSETTO:-0400
TZNAME:EDT
DTSTART:20230312T070000
END:DAYLIGHT
BEGIN:STANDARD
TZOFFSETFROM:-0400
TZOFFSETTO:-0500
TZNAME:EST
DTSTART:20231105T060000
END:STANDARD
BEGIN:DAYLIGHT
TZOFFSETFROM:-0500
TZOFFSETTO:-0400
TZNAME:EDT
DTSTART:20240310T070000
END:DAYLIGHT
BEGIN:STANDARD
TZOFFSETFROM:-0400
TZOFFSETTO:-0500
TZNAME:EST
DTSTART:20241103T060000
END:STANDARD
BEGIN:DAYLIGHT
TZOFFSETFROM:-0500
TZOFFSETTO:-0400
TZNAME:EDT
DTSTART:20250309T070000
END:DAYLIGHT
BEGIN:STANDARD
TZOFFSETFROM:-0400
TZOFFSETTO:-0500
TZNAME:EST
DTSTART:20251102T060000
END:STANDARD
BEGIN:DAYLIGHT
TZOFFSETFROM:-0500
TZOFFSETTO:-0400
TZNAME:EDT
DTSTART:20260308T070000
END:DAYLIGHT
BEGIN:STANDARD
TZOFFSETFROM:-0400
TZOFFSETTO:-0500
TZNAME:EST
DTSTART:20261101T060000
END:STANDARD
END:VTIMEZONE
BEGIN:VEVENT
DTSTART;TZID=America/Toronto:20250909T170000
DTEND;TZID=America/Toronto:20250909T210000
DTSTAMP:20260423T201134
CREATED:20250905T144439Z
LAST-MODIFIED:20250905T144439Z
UID:10000136-1757437200-1757451600@brockboardoftrade.com
SUMMARY:Sunderland Fall Fair
DESCRIPTION:Tickets \nTuesday Sept 9th $10.00\nWednesday Sept 10th $15.00 \nTwo-Day Pass $20.00
URL:https://brockboardoftrade.com/event/sunderland-fall-fair-2/
LOCATION:Sunderland Ontario\, Sunderland\, Ontario\, L0C 1H0\, Canada
ATTACH;FMTTYPE=image/jpeg:https://brockboardoftrade.com/wp-content/uploads/2025/09/IMG_9924-002.jpg
END:VEVENT
BEGIN:VEVENT
DTSTART;TZID=America/Toronto:20250728T120000
DTEND;TZID=America/Toronto:20250728T190000
DTSTAMP:20260423T201134
CREATED:20241112T202611Z
LAST-MODIFIED:20250708T125749Z
UID:10000116-1753704000-1753729200@brockboardoftrade.com
SUMMARY:Brock Board of Trade Annual Golf Tournament 2025
DESCRIPTION:The 2025 Brock Board of Trade Annual Golf Tournament is Monday July 28th. \n  \nRegistration: Noon\nLunch: 12:30\nTee Off: 1:30\nDinner 6:30 \nWe will have a Silent Auction Table again this year! \nSee our website Golf Page for more info:\nhttps://brockboardoftrade.com/brock-board-of-trade-annual-golf-tournament/ \n  \n 
URL:https://brockboardoftrade.com/event/brock-board-of-trade-annual-golf-tournament-2025/
LOCATION:Cedarhurst Golf Club\, 825 Thorah Concession Rd 4\, Beaverton\, Ontario\, L0K 1A0\, Canada
ATTACH;FMTTYPE=image/jpeg:https://brockboardoftrade.com/wp-content/uploads/2024/11/BBOT-GOLF-poster-2025-002-for-mailchimp.jpg
ORGANIZER;CN="Brock Board of Trade":MAILTO:brockboardoftrade@gmail.com
END:VEVENT
BEGIN:VEVENT
DTSTART;TZID=America/Toronto:20250621T110000
DTEND;TZID=America/Toronto:20250621T140000
DTSTAMP:20260423T201134
CREATED:20250603T114159Z
LAST-MODIFIED:20250603T114559Z
UID:10000134-1750503600-1750514400@brockboardoftrade.com
SUMMARY:BCHC Centre Community Open House
DESCRIPTION:Brock Community Health Centre is thrilled to invite the community for a tour of the new Brock CHC facility! Enjoy some refreshments and see first-hand how this space will be used to serve our community.
URL:https://brockboardoftrade.com/event/brock-community-health-centre-community-open-house/
LOCATION:BCH\, 39 Cameron St West\, Cannington\, Ontario\, L0E 1E0\, Canada
ATTACH;FMTTYPE=image/jpeg:https://brockboardoftrade.com/wp-content/uploads/2025/06/BCHC.jpg
ORGANIZER;CN="Brock Community Health Centre":MAILTO:info@brockchc.ca
END:VEVENT
BEGIN:VEVENT
DTSTART;TZID=America/Toronto:20250617T190000
DTEND;TZID=America/Toronto:20250617T210000
DTSTAMP:20260423T201134
CREATED:20250416T152059Z
LAST-MODIFIED:20250603T204017Z
UID:10000128-1750186800-1750194000@brockboardoftrade.com
SUMMARY:BBOT Board Meeting
DESCRIPTION:
URL:https://brockboardoftrade.com/event/bbot-board-meeting-2/
LOCATION:Cannington Municipal Office\, 1 Cameron Street East\, Cannington\, Ontario\, L0E 1E0\, Canada
END:VEVENT
BEGIN:VEVENT
DTSTART;TZID=America/Toronto:20250521T190000
DTEND;TZID=America/Toronto:20250521T210000
DTSTAMP:20260423T201134
CREATED:20250416T151204Z
LAST-MODIFIED:20250416T151204Z
UID:10000127-1747854000-1747861200@brockboardoftrade.com
SUMMARY:BBOT Board Meeting
DESCRIPTION:
URL:https://brockboardoftrade.com/event/bbot-board-meeting/
LOCATION:Beaverton Old Town Hall\, 397 Simcoe Street\, Beaverton\, Ontario\, L0K 1A0\, Canada
END:VEVENT
BEGIN:VEVENT
DTSTART;TZID=America/Toronto:20250521T180000
DTEND;TZID=America/Toronto:20250521T190000
DTSTAMP:20260423T201134
CREATED:20250507T014835Z
LAST-MODIFIED:20250507T015440Z
UID:10000133-1747850400-1747854000@brockboardoftrade.com
SUMMARY:Headshot Mini Sessions
DESCRIPTION:The Brock Board of Trade is pleased to partner with Melanie Hess Photography for headshot mini sessions!\nOpen to everyone\, with a discount for our members. \nWhen: Wednesday\, May 21 – Drop in anytime between 6–7 PM\nWhere: RE/MAX Country Lakes\, Beaverton\nCost:   $25 for BBOT members\n$30 for non-members\n(Cash at the door) \nThis is a fantastic opportunity to update your headshot quickly and affordably—perfect for your website\, LinkedIn\, business cards\, and more. \nWhile you wait\, take advantage of a great networking opportunity to connect with other local professionals and business owners in the area! \nPlease DM Melanie if you’re planning to come so I can prep accordingly. She’s also happy to help with wardrobe tips to make sure you look and feel your best. \nDon’t miss out on this one-night-only event! \n 
URL:https://brockboardoftrade.com/event/headshot-mini-sessions/
LOCATION:RE/MAX Country Lakes Realty Inc.\, 364 Simcoe Street\, Beaverton\, Ontario\, L0K 1A0\, Canada
ATTACH;FMTTYPE=image/jpeg:https://brockboardoftrade.com/wp-content/uploads/2025/05/Melanie.jpg
ORGANIZER;CN="Melanie Hess Photography":MAILTO:melaniehessphotography@hotmail.com
END:VEVENT
BEGIN:VEVENT
DTSTART;TZID=America/Toronto:20250514T083000
DTEND;TZID=America/Toronto:20250514T100000
DTSTAMP:20260423T201134
CREATED:20250507T011637Z
LAST-MODIFIED:20250507T011637Z
UID:10000132-1747211400-1747216800@brockboardoftrade.com
SUMMARY:Coffee Meet Up at The Shortiss CAFE BAR in Beaverton
DESCRIPTION:All are welcome to join us for a Coffee Meet Up\, meet local business owners over coffee. \nPlease email brockboardoftrade@gmail.com to register
URL:https://brockboardoftrade.com/event/coffee-meet-up-at-the-shortiss-cafe-bar-in-beaverton/
LOCATION:The Shortiss CAFE BAR\, 379 Simcoe Street\, Beaverton\, Ontario\, L0K 1A0\, Canada
ATTACH;FMTTYPE=image/png:https://brockboardoftrade.com/wp-content/uploads/2025/05/Shortiss.png
END:VEVENT
BEGIN:VEVENT
DTSTART;TZID=America/Toronto:20250416T173000
DTEND;TZID=America/Toronto:20250416T193000
DTSTAMP:20260423T201134
CREATED:20250310T165000Z
LAST-MODIFIED:20250310T175059Z
UID:10000122-1744824600-1744831800@brockboardoftrade.com
SUMMARY:Mayor Schummer's Business Networking Event
DESCRIPTION:Twice a year the Township of Brock’s Mayor and Council invite local businesses to a free networking event! This is an opportunity for the Township to provide municipal and regional updates to help you better serve our community. \n✅2025 Mayor’s Networking Business Event: \nWednesday April 16th at 5:30 p.m. to 7:30pm\nRick  MacLeish Memorial Community Centre\, Cannington\nLocal business owners are encouraged register online for the event\, as well as provide suggestions for topics of discussion. Appetizers and light refreshments will be available for attendees to enjoy as the Mayor provides a brief presentation. Municipal and Regional staff will also be in attendance to answer any questions that you may have.\nSpace is limited\, register today to secure your spot \nhttps://ow.ly/2lxQ50V4A48 \n 
URL:https://brockboardoftrade.com/event/mayor-schummers-business-networking-event/
LOCATION:Rick MacLeish Memorial Community Centre\, 91 Elliot Street\, Cannington\, Ontario\, L0E 1E0\, Canada
ATTACH;FMTTYPE=image/png:https://brockboardoftrade.com/wp-content/uploads/2025/03/Schummer-Networking-event_-002.png
END:VEVENT
BEGIN:VEVENT
DTSTART;TZID=America/Toronto:20250415T190000
DTEND;TZID=America/Toronto:20250415T210000
DTSTAMP:20260423T201134
CREATED:20250318T174304Z
LAST-MODIFIED:20250318T174304Z
UID:10000125-1744743600-1744750800@brockboardoftrade.com
SUMMARY:Board Meeting
DESCRIPTION:
URL:https://brockboardoftrade.com/event/board-meeting-14/
LOCATION:Cameron House\, 16 Cameron St. West\, Cannington\, Ontario\, L0E 1E0\, Canada
END:VEVENT
BEGIN:VEVENT
DTSTART;TZID=America/Toronto:20250409T190000
DTEND;TZID=America/Toronto:20250409T203000
DTSTAMP:20260423T201134
CREATED:20250318T173239Z
LAST-MODIFIED:20250318T173626Z
UID:10000124-1744225200-1744230600@brockboardoftrade.com
SUMMARY:Marketing MEETUP
DESCRIPTION:🎯 Calling all small business owners! 🎯 \n  \nWe’re gearing up for an impactful event\, focusing on Marketing & Strategy and we want to make sure it’s tailored to YOUR needs! 🚀 \n  \nWhat marketing challenges are you facing? What strategies do you want to learn more about? Let us know by filling out this quick questionnaire 👉 https://forms.gle/bGj3Tqs2fMiURN1V7 \nYour input helps us create a discussion that delivers real value—so don’t miss out! Then\, join us for a powerful session of networking\, insights\, and actionable strategies. \n  \nOffering a Morning and Evening event for all to attend! Complimentary Event – email brockboardoftrade@gmail.com to RSVP. \n📅 Wednesday April 9 \n⏰ 📍 10am River St. Cafe\, 93 River St. Sunderland \n7pm Cameron House\, 16 Cameron St.  Cannington \nALL BUSINESS OWNERS WELCOME! \n 
URL:https://brockboardoftrade.com/event/marketing-meetup/
LOCATION:River Street Cafe\, 93 River Street\, Sunderland\, Ontario\, L0C 1H0\, Canada
ATTACH;FMTTYPE=image/jpeg:https://brockboardoftrade.com/wp-content/uploads/2025/03/BBOT-Distrakt-April-9-1-002.jpg
END:VEVENT
BEGIN:VEVENT
DTSTART;TZID=America/Toronto:20250409T100000
DTEND;TZID=America/Toronto:20250409T113000
DTSTAMP:20260423T201134
CREATED:20250318T175123Z
LAST-MODIFIED:20250318T175124Z
UID:10000123-1744192800-1744198200@brockboardoftrade.com
SUMMARY:Marketing MEETUP
DESCRIPTION:🎯 Calling all small business owners! 🎯 \n  \nWe’re gearing up for an impactful event\, focusing on Marketing & Strategy and we want to make sure it’s tailored to YOUR needs! 🚀 \n  \nWhat marketing challenges are you facing? What strategies do you want to learn more about? Let us know by filling out this quick questionnaire 👉 https://forms.gle/bGj3Tqs2fMiURN1V7 \nYour input helps us create a discussion that delivers real value—so don’t miss out! Then\, join us for a powerful session of networking\, insights\, and actionable strategies. \n  \nOffering a Morning and Evening event for all to attend! Complimentary Event – email brockboardoftrade@gmail.com to RSVP. \n📅 Wednesday April 9 \n⏰ 📍 10am River St. Cafe\, 93 River St. Sunderland \n7pm Cameron House\, 16 Cameron St.  Cannington \nALL BUSINESS OWNERS WELCOME! \n 
URL:https://brockboardoftrade.com/event/marketing-meetup-2/
LOCATION:River Street Cafe\, 93 River Street\, Sunderland\, Ontario\, L0C 1H0\, Canada
ATTACH;FMTTYPE=image/jpeg:https://brockboardoftrade.com/wp-content/uploads/2025/03/BBOT-Distrakt-April-9-1-002.jpg
END:VEVENT
BEGIN:VEVENT
DTSTART;TZID=America/Toronto:20250405T080000
DTEND;TZID=America/Toronto:20250406T170000
DTSTAMP:20260423T201134
CREATED:20241112T220634Z
LAST-MODIFIED:20241112T222617Z
UID:10000117-1743840000-1743958800@brockboardoftrade.com
SUMMARY:Sunderland Maple Syrup Festival
DESCRIPTION:Save the date! 🗓️ The 2025 Sunderland Maple Syrup Festival will be on April 5th and 6th. \nThe Brock Board of Trade is thrilled to be a diamond sponsor for this event! \n  \n 
URL:https://brockboardoftrade.com/event/2025-sunderland-maple-syrup-festival/
LOCATION:Sunderland Ontario\, Sunderland\, Ontario\, L0C 1H0\, Canada
ATTACH;FMTTYPE=image/jpeg:https://brockboardoftrade.com/wp-content/uploads/2024/11/2025-Maple-Syrup-Festival.jpg
END:VEVENT
BEGIN:VEVENT
DTSTART;TZID=America/Toronto:20250404T150000
DTEND;TZID=America/Toronto:20250404T190000
DTSTAMP:20260423T201134
CREATED:20250319T173925Z
LAST-MODIFIED:20250319T201231Z
UID:10000126-1743778800-1743793200@brockboardoftrade.com
SUMMARY:Durham College IT Expo 2025
DESCRIPTION:Brock Board of Trade is Sponsoring the Durham College IT Expo again this year! \nReady to see the next generation of tech innovators? Join us at the DC IT Student Expo\, presented by the Brock Board of Trade\, and explore cutting-edge capstone projects from: \nArtificial Intelligence\, Computer Programming\, Computer Systems\, and Cybersecurity students. \n– Artificial Intelligence students are solving real-world challenges with machine learning & neural networks.\n– Programming Students are coding the digital world of tomorrow with apps\, web design\, and systems programming.\n– Computer Systems Tech Students are shaping IT infrastructure with cloud computing & advanced networking.\n– Cybersecurity Students are defending the digital world with ethical hacking and secure IT solutions. \n          Date: Friday\, April 4th\, 3 PM – 7 PM\n          Location: Durham College\, Oshawa Campus\, Campus Recreation & Wellness Centre. \nFree registration here: \nhttps://www.eventbrite.com/e/durham-college-it-student-expo-2025-presented-by-the-brock-board-of-trade-tickets-1203637234369?aff=oddtdtcreator&fbclid=PAZXh0bgNhZW0CMTEAAaaH-cCVt5 \n 
URL:https://brockboardoftrade.com/event/durham-college-it-expo-2025/
LOCATION:Durham College\, 2000 Simcoe St. N\, Oshawa\, ON.\, Oshawa\, Ontario\, L1G 0C5\, Canada
ATTACH;FMTTYPE=image/jpeg:https://brockboardoftrade.com/wp-content/uploads/2025/03/IMG_8337-002.jpg
END:VEVENT
BEGIN:VEVENT
DTSTART;TZID=America/Toronto:20250319T190000
DTEND;TZID=America/Toronto:20250319T210000
DTSTAMP:20260423T201134
CREATED:20250116T214107Z
LAST-MODIFIED:20250116T214107Z
UID:10000121-1742410800-1742418000@brockboardoftrade.com
SUMMARY:Board Meeting
DESCRIPTION:
URL:https://brockboardoftrade.com/event/board-meeting-13/
LOCATION:Cannington Municipal Office\, 1 Cameron Street East\, Cannington\, Ontario\, L0E 1E0\, Canada
END:VEVENT
BEGIN:VEVENT
DTSTART;TZID=America/Toronto:20250211T180000
DTEND;TZID=America/Toronto:20250211T203000
DTSTAMP:20260423T201134
CREATED:20250116T204718Z
LAST-MODIFIED:20250120T214732Z
UID:10000120-1739296800-1739305800@brockboardoftrade.com
SUMMARY:Brock Board of Trade AGM 2025
DESCRIPTION:Join us at the Beaverton Town Hall Auditorium\, all welcome! \nGUEST SPEAKER:\nChuck Thibeault/Central Counties Tourism \n$15person\, Includes Refreshments\nRSVP Required
URL:https://brockboardoftrade.com/event/brock-board-of-trade-agm-2025/
LOCATION:Beaverton Old Town Hall\, 397 Simcoe Street\, Beaverton\, Ontario\, L0K 1A0\, Canada
ATTACH;FMTTYPE=image/jpeg:https://brockboardoftrade.com/wp-content/uploads/2025/01/AGM-2025.jpg
END:VEVENT
BEGIN:VEVENT
DTSTART;TZID=America/Toronto:20250126T140000
DTEND;TZID=America/Toronto:20250126T160000
DTSTAMP:20260423T201134
CREATED:20250114T162328Z
LAST-MODIFIED:20250114T170155Z
UID:10000119-1737900000-1737907200@brockboardoftrade.com
SUMMARY:Monthly Meeting Featuring Allison Taylor Speaking about Shades of Hope - All Welcome
DESCRIPTION:Featuring “Shades of Hope” \nWhat they do\, helping animals and the community. All Welcome.
URL:https://brockboardoftrade.com/event/monthly-meeting-featuring-allison-taylor-speaking-about-shades-of-hope/
LOCATION:The Meeting Place – Beaver River Museum\, 284 Simcoe Street\, Beaverton\, Ontario\, L0K 1A0\, Canada
ATTACH;FMTTYPE=image/jpeg:https://brockboardoftrade.com/wp-content/uploads/2025/01/IMG_8010-002-Beaverto-Museum.jpg
ORGANIZER;CN="Beaverton Thorah Eldon Historical Society":MAILTO:bte.hist.soc@bellnet.ca
END:VEVENT
BEGIN:VEVENT
DTSTART;TZID=America/Toronto:20250115T190000
DTEND;TZID=America/Toronto:20250115T210000
DTSTAMP:20260423T201134
CREATED:20250108T175026Z
LAST-MODIFIED:20250108T175329Z
UID:10000118-1736967600-1736974800@brockboardoftrade.com
SUMMARY:Board Meeting
DESCRIPTION:Sunderland Town Hall
URL:https://brockboardoftrade.com/event/board-meeting-10/
LOCATION:Sunderland Town Hall\, 120 River St\, Sunderland\, Ontario\, L0C 1H0\, Canada
END:VEVENT
BEGIN:VEVENT
DTSTART;TZID=America/Toronto:20241214T190000
DTEND;TZID=America/Toronto:20241214T210000
DTSTAMP:20260423T201134
CREATED:20241009T202609Z
LAST-MODIFIED:20241009T203104Z
UID:10000112-1734202800-1734210000@brockboardoftrade.com
SUMMARY:Sunderland Santa Claus Parade
DESCRIPTION:more info to come
URL:https://brockboardoftrade.com/event/sunderland-santa-claus-parade/
LOCATION:Sunderland Ontario\, Sunderland\, Ontario\, L0C 1H0\, Canada
ATTACH;FMTTYPE=image/jpeg:https://brockboardoftrade.com/wp-content/uploads/2024/10/sunderland-santa.jpg
END:VEVENT
BEGIN:VEVENT
DTSTART;TZID=America/Toronto:20241130T110000
DTEND;TZID=America/Toronto:20241130T130000
DTSTAMP:20260423T201134
CREATED:20241009T194640Z
LAST-MODIFIED:20241009T194640Z
UID:10000111-1732964400-1732971600@brockboardoftrade.com
SUMMARY:Cannington Santa Claus Parade
DESCRIPTION:Get your floats ready! \nLet’s make this the BIGGEST parade yet!
URL:https://brockboardoftrade.com/event/cannington-santa-claus-parade/
LOCATION:Cannington Ontario\, Cannington\, Ontario\, L0E 1H0\, Canada
ATTACH;FMTTYPE=image/jpeg:https://brockboardoftrade.com/wp-content/uploads/2024/10/cannington-parade.jpg
ORGANIZER;CN="Cannington Lions Club Ontario":MAILTO:president@canningtonlionsclub.ca
END:VEVENT
BEGIN:VEVENT
DTSTART;TZID=America/Toronto:20241128T180000
DTEND;TZID=America/Toronto:20241128T210000
DTSTAMP:20260423T201134
CREATED:20241107T162211Z
LAST-MODIFIED:20241119T164718Z
UID:10000115-1732816800-1732827600@brockboardoftrade.com
SUMMARY:Brock Board of Trade Holiday Mixer
DESCRIPTION:Brock Board of Trade Holiday Mixer!\nJoin Brock Board of Trade on November 28th for a festive Holiday Mixer from 5:30pm to 9pm! Our Event features live music by “MT Pockets”\,Cash Bar and 50/50 Draw. Location is St. Paul’s Hall\, 383 Osborne Street\, Beaverton.\nWe encourage members to bring their friends and family to join us as well! Children can attend free\, making it a perfect outing for families – expect surprise visits from beloved Christmas characters\, adding to the holiday cheer! \nEveryone welcome\, you don’t have to be a member to attend.\nSee you there!!\nRegister here: \nhttps://www.eventbrite.ca/e/brock-board-of-trade-holiday-mixer-tickets-1082521875069?aff=oddtdtcreator\n \n\n  \n 
URL:https://brockboardoftrade.com/event/brock-board-of-trade-holiday-mixer/
LOCATION:St. Paul’s Anglican Church Hall\, 383 Osborne St.\, Beaverton\, L0K1A0
ATTACH;FMTTYPE=image/jpeg:https://brockboardoftrade.com/wp-content/uploads/2024/11/Holiday-Mixer.jpg
END:VEVENT
BEGIN:VEVENT
DTSTART;TZID=America/Toronto:20241120T190000
DTEND;TZID=America/Toronto:20241120T210000
DTSTAMP:20260423T201134
CREATED:20240116T191056Z
LAST-MODIFIED:20240116T191056Z
UID:10000071-1732129200-1732136400@brockboardoftrade.com
SUMMARY:Board Meeting
DESCRIPTION:
URL:https://brockboardoftrade.com/event/board-meeting-7/
LOCATION:Cannington Municipal Office\, 1 Cameron Street East\, Cannington\, Ontario\, L0E 1E0\, Canada
END:VEVENT
BEGIN:VEVENT
DTSTART;TZID=America/Toronto:20241120T100000
DTEND;TZID=America/Toronto:20241120T120000
DTSTAMP:20260423T201134
CREATED:20241029T174049Z
LAST-MODIFIED:20241029T174049Z
UID:10000114-1732096800-1732104000@brockboardoftrade.com
SUMMARY:Coffee Connections: Police & Fire
DESCRIPTION:Save the date! \nJoin us for an informal coffee to ask questions\, learn about emergency services\, and discuss concerns with local officers and firefighters.
URL:https://brockboardoftrade.com/event/coffee-connections-police-fire/
LOCATION:River Street Cafe\, 93 River Street\, Sunderland\, Ontario\, L0C 1H0\, Canada
ATTACH;FMTTYPE=image/jpeg:https://brockboardoftrade.com/wp-content/uploads/2024/10/RIVER-STREET.jpg
END:VEVENT
BEGIN:VEVENT
DTSTART;TZID=America/Toronto:20241115T190000
DTEND;TZID=America/Toronto:20241115T203000
DTSTAMP:20260423T201134
CREATED:20241009T172709Z
LAST-MODIFIED:20241009T192044Z
UID:10000110-1731697200-1731702600@brockboardoftrade.com
SUMMARY:Beaverton Santa Claus Parade
DESCRIPTION:Get ready to LIGHT UP THE TOWN at this years Beaverton Lions Santa Claus Parade! Nov 15th. \nFollowing Parade @ The Fire Hall visit with Santa & Hot Chocolate
URL:https://brockboardoftrade.com/event/beaverton-santa-claus-parade/
LOCATION:Beaverton Ontario\, Beaverton\, ON\, L0K 1A0\, Canada
ATTACH;FMTTYPE=image/jpeg:https://brockboardoftrade.com/wp-content/uploads/2024/10/Beaverton-Santa-Parade.jpg
ORGANIZER;CN="Beaverton Lions Club Ontario":MAILTO:info@beavertonlions.ca
END:VEVENT
BEGIN:VEVENT
DTSTART;TZID=America/Toronto:20241113T140000
DTEND;TZID=America/Toronto:20241113T180000
DTSTAMP:20260423T201134
CREATED:20241008T171857Z
LAST-MODIFIED:20241008T171857Z
UID:10000109-1731506400-1731520800@brockboardoftrade.com
SUMMARY:Durham Region Volunteer Fair
DESCRIPTION:Join Us at the 2nd Annual Durham Region Volunteer Fair! \nCalling all Durham Region residents! Mark your calendars for the 2nd Annual Durham Region Volunteer Fair. Join us on Wednesday\, November 13th at the Garnet B. Rickard Sports Complex (2440 Durham Regional Hwy 2) in Bowmanville. Community Care Durham and DRAVA (Durham Region Assoc. for Volunteer Administration) are excited to partnered together once again to host this event. People of all ages are welcomed to attend this FREE event from 2pm to 6pm.\nThis year is bigger and better! Explore all the volunteer opportunities over 40 vendors have to offer. Check out the list of participants who have already registered. http://www.drava.org/volunteer-fair.html. Here’s your chance to earn volunteer hours\, share your time and give back to the community.
URL:https://brockboardoftrade.com/event/durham-region-volunteer-fair/
LOCATION:Garnet B. Rickard Recreation Complex\, 2440 Durham Regional Hwy 2\, Bowmanville\, L1C 3K2\, Canada
CATEGORIES:Community Events
ORGANIZER;CN="Community Care Durham":MAILTO:mmarchuk@communitycaredurham.on.ca
END:VEVENT
BEGIN:VEVENT
DTSTART;TZID=America/Toronto:20241024T083000
DTEND;TZID=America/Toronto:20241024T100000
DTSTAMP:20260423T201134
CREATED:20241011T133908Z
LAST-MODIFIED:20241011T133908Z
UID:10000113-1729758600-1729764000@brockboardoftrade.com
SUMMARY:Small Business Week Event - Exercise Demo by Brickhouse Physiotherapy
DESCRIPTION:Join us for a Breakfast meeting featuring our member Brickhouse Physiotherapy demonstrating exercises for those who spend hours at their computer screen! Networking as well\, all businesses welcome! \nPlease email karen@brockboardoftrade.com to register
URL:https://brockboardoftrade.com/event/small-business-week-event-exercise-demo-by-brickhouse-physiotherapy/
LOCATION:Sunderland Arena\, 20 Park Street\, Sunderland\, ONtario\, L0C1H0\, Canada
END:VEVENT
BEGIN:VEVENT
DTSTART;TZID=America/Toronto:20241022T160000
DTEND;TZID=America/Toronto:20241022T200000
DTSTAMP:20260423T201134
CREATED:20240916T192400Z
LAST-MODIFIED:20240916T193252Z
UID:10000104-1729612800-1729627200@brockboardoftrade.com
SUMMARY:North Durham Building Business Forum
DESCRIPTION:Looking to incorporate artificial intelligence (AI) into your business but not sure where to start?  Register for the #NorthDurham Building Business Forum on October 22. \nBesides connecting with other rural business leaders\, entrepreneurs and #DurhamRegion community partners\, you’ll learn how to navigate the AI landscape. \nHear about recent advancements in AI technology and how it can drive business efficiency. \nA $10 charitable donation is all it takes to get in the door. \nRegister now: https://tr.ee/fGgJlVUdXx \n  \n 
URL:https://brockboardoftrade.com/event/north-durham-building-business-forum-2/
LOCATION:Mississaugas of Scugog Island First Nation Health & Resource Centre Hall\, 22600 Island Road L9L 1B6\, Port Perry\, Ontario\, L9L 1B6\, Canada
ATTACH;FMTTYPE=image/jpeg:https://brockboardoftrade.com/wp-content/uploads/2024/09/North-Durham-e1726514497738.jpeg
END:VEVENT
BEGIN:VEVENT
DTSTART;TZID=America/Toronto:20241021T083000
DTEND;TZID=America/Toronto:20241021T100000
DTSTAMP:20260423T201134
CREATED:20241004T161936Z
LAST-MODIFIED:20241004T220209Z
UID:10000107-1729499400-1729504800@brockboardoftrade.com
SUMMARY:Discussion: “Business Loan Options between South Lake Futures & Mainstream Financial Institutions\,”
DESCRIPTION:Small Business Week Event \nJoin us for a Discussion on: “Business Loan Options between South Lake Futures and Mainstream Financial Institutions\,” \nSpeakers: \n Caroline Yang (Business Loan Officer\, South Lake Futures)\nCaroline Yang brings years of experience in commercial banking\, business development\, and sales/financial analysis to her role as Business Loan Officer at South Lake Futures. With a deep understanding of entrepreneurship\, financial options\, and the evolving business landscape\, Caroline is dedicated to helping businesses navigate the funding solutions they need to achieve their goals. \nStefan Markus (Small Business Account Manager\, TD)\nStefan Markus has over fifteen years’ experience in banking\, serving business owners with their financing needs since 2017. With a degree in business management and finance\, and having served on his local Chamber of Commerce\, Stefan is able to provide expert advice to businesses big and small. \nRSVP is required\, please email: brockboardoftrade@gmail.com to register. \nWe thank South Lake Futures for Sponsoring this Event. \n  \n 
URL:https://brockboardoftrade.com/event/discussion-business-loan-options-between-south-lake-futures-mainstream-financial-institutions/
LOCATION:Cedarhurst Golf Club\, 825 Thorah Concession Rd 4\, Beaverton\, Ontario\, L0K 1A0\, Canada
END:VEVENT
BEGIN:VEVENT
DTSTART;TZID=America/Toronto:20241019T170000
DTEND;TZID=America/Toronto:20241019T200000
DTSTAMP:20260423T201134
CREATED:20241007T133619Z
LAST-MODIFIED:20241007T133619Z
UID:10000108-1729357200-1729368000@brockboardoftrade.com
SUMMARY:St. Paul’s Beaverton Harvest Supper
DESCRIPTION:Harvest dinner buffet meal featuring live music by MT Pockets\nSt. Paul’s Anglican Church\, 383 Osborne St. Beaverton\nTickets: $30/person\nTo reserve\, call 705-426-5972
URL:https://brockboardoftrade.com/event/st-pauls-beaverton-harvest-supper/
LOCATION:St. Paul’s Anglican Church Hall\, 383 Osborne St.\, Beaverton\, L0K1A0
ORGANIZER;CN="St. Paul's Anglican Church":MAILTO:info@saint-pauls.ca
END:VEVENT
BEGIN:VEVENT
DTSTART;TZID=America/Toronto:20241016T190000
DTEND;TZID=America/Toronto:20241016T210000
DTSTAMP:20260423T201134
CREATED:20240116T191248Z
LAST-MODIFIED:20240919T153242Z
UID:10000072-1729105200-1729112400@brockboardoftrade.com
SUMMARY:Board Meeting
DESCRIPTION:
URL:https://brockboardoftrade.com/event/board-meeting-8/
LOCATION:Beaverton Old Town Hall\, 397 Simcoe Street\, Beaverton\, Ontario\, L0K 1A0\, Canada
END:VEVENT
BEGIN:VEVENT
DTSTART;TZID=America/Toronto:20241010T083000
DTEND;TZID=America/Toronto:20241010T093000
DTSTAMP:20260423T201134
CREATED:20241004T131039Z
LAST-MODIFIED:20241004T131649Z
UID:10000106-1728549000-1728552600@brockboardoftrade.com
SUMMARY:Tour of Buzzing Bees Dome in Sunderland
DESCRIPTION:Join us for networking and Tour of the Geo Dome at the beautiful Buzzing Bees Adventure Farm! Grab a Coffee at River Side Cafe or Canter Coffee and meet us at the Dome! Enter off Hwy 12 to Parking Lot.
URL:https://brockboardoftrade.com/event/tour-of-buzzing-bees-dome-in-sunderland/
LOCATION:Buzzing Bees Adventure Farm\, 1070 Brock Conc 5\, Ontario\, L0C 1H0\, Canada
END:VEVENT
END:VCALENDAR