BEGIN:VCALENDAR
VERSION:2.0
PRODID:-//Brock Board of Trade - ECPv6.15.20//NONSGML v1.0//EN
CALSCALE:GREGORIAN
METHOD:PUBLISH
X-WR-CALNAME:Brock Board of Trade
X-ORIGINAL-URL:https://brockboardoftrade.com
X-WR-CALDESC:Events for Brock Board of Trade
REFRESH-INTERVAL;VALUE=DURATION:PT1H
X-Robots-Tag:noindex
X-PUBLISHED-TTL:PT1H
BEGIN:VTIMEZONE
TZID:America/Toronto
BEGIN:DAYLIGHT
TZOFFSETFROM:-0500
TZOFFSETTO:-0400
TZNAME:EDT
DTSTART:20220313T070000
END:DAYLIGHT
BEGIN:STANDARD
TZOFFSETFROM:-0400
TZOFFSETTO:-0500
TZNAME:EST
DTSTART:20221106T060000
END:STANDARD
BEGIN:DAYLIGHT
TZOFFSETFROM:-0500
TZOFFSETTO:-0400
TZNAME:EDT
DTSTART:20230312T070000
END:DAYLIGHT
BEGIN:STANDARD
TZOFFSETFROM:-0400
TZOFFSETTO:-0500
TZNAME:EST
DTSTART:20231105T060000
END:STANDARD
BEGIN:DAYLIGHT
TZOFFSETFROM:-0500
TZOFFSETTO:-0400
TZNAME:EDT
DTSTART:20240310T070000
END:DAYLIGHT
BEGIN:STANDARD
TZOFFSETFROM:-0400
TZOFFSETTO:-0500
TZNAME:EST
DTSTART:20241103T060000
END:STANDARD
END:VTIMEZONE
BEGIN:VEVENT
DTSTART;TZID=America/Toronto:20231116T140000
DTEND;TZID=America/Toronto:20231116T153000
DTSTAMP:20260423T224952
CREATED:20231009T132513Z
LAST-MODIFIED:20231109T120459Z
UID:10000062-1700143200-1700148600@brockboardoftrade.com
SUMMARY:Virtual Roundtable Discussion
DESCRIPTION:Virtual Roundtable Discussion \nFifty-five years ago\, Andy Warhol proclaimed\, “In the future\, everyone will be famous for 15 minutes”. In today’s world of fleeting attention spans on platforms like TikTok and Instagram\, it’s challenging to hold someone’s focus for that long. However\, our Virtual Roundtable event offers you precisely that opportunity. \nJoin us for a virtual Zoom Roundtable event where you’ll be part of a dynamic community of small to medium sized business leaders. Engage in insightful discussions with 3 to 4 fellow business owners\, sharing experiences and gaining valuable insights from those who’ve faced similar \nchallenges. We’ll create a supportive break room atmosphere where you can network\, brainstorm innovative solutions and bolster your business acumen. Don’t miss out on the chance to be a part of a close-knit community dedicated to mutual success. \nSecure your spot today. You’ll discover your “perfect consulting partners” through the serendipity of random connections. Be ready to share your most significant business challenges for the next 3\, 6 or 12 months – in other words\, what keeps you awake at night. You’ll have 15 minutes to tell your story and listen to questions\, perspectives and insights from others. \nRegister here \nModerator: Cheryl Crumb\, Cheryl Crumb & Associates \n 
URL:https://brockboardoftrade.com/event/virtual-roundtable-discussion/
END:VEVENT
BEGIN:VEVENT
DTSTART;TZID=America/Toronto:20231115T100000
DTEND;TZID=America/Toronto:20231115T120000
DTSTAMP:20260423T224952
CREATED:20231009T122122Z
LAST-MODIFIED:20231109T120152Z
UID:10000061-1700042400-1700049600@brockboardoftrade.com
SUMMARY:The Art of Smart Hiring for Leaders
DESCRIPTION:Unlocking Excellence: The Art of Smart Hiring For Leaders \nIn Jim Collin’s timeless classic\, “Good to Great”\, he emphasized the critical importance of “getting the right people on the bus\, and in the right seats”. There’s no factor more influential in organizational success than the individuals you bring on board. With the right people in place\, challenges of motivating and driving them to achieve excellent results become less daunting. Without training and a reliable process\, stats show that we make poor selection choices 4 out of 5 times! \nSelecting individuals who will thrive is not an innate skill. In our engaging 2-hr interactive virtual workshop\, you’ll learn a structured process and techniques to help you pinpoint ideal candidates for your job openings\, company culture and team dynamics. Specifically you’ll learn to: \n\nLeverage technology\nStreamline hiring with efficient phone screens\nAvoid pitfalls of “Gut Feel”\nIdentify key qualities\nMaster the Art of Asking the Right Questions and probing for Truth\n\nMost importantly\, you will have the opportunity to put these insights into PRACTICE\, ensuring you’re well-prepared to make successful hiring decisions that drive your organization’s growth and success. \nRegister here \nPresenter: Cheryl Crumb\, Cheryl Crumb & Associates \nCheryl has trained in 16 countries on 4 continents\, supporting leaders and associates as they “take off their afraid and put on their coat of courage”. As one CEO said\, “Don’t think about what it costs you to work with Cheryl…Think about what it will cost you NOT to!” \n 
URL:https://brockboardoftrade.com/event/webinar-unlocking-excellence-the-art-of-smart-hiring-for-leaders/
END:VEVENT
END:VCALENDAR