BEGIN:VCALENDAR
VERSION:2.0
PRODID:-//Brock Board of Trade - ECPv6.15.20//NONSGML v1.0//EN
CALSCALE:GREGORIAN
METHOD:PUBLISH
X-WR-CALNAME:Brock Board of Trade
X-ORIGINAL-URL:https://brockboardoftrade.com
X-WR-CALDESC:Events for Brock Board of Trade
REFRESH-INTERVAL;VALUE=DURATION:PT1H
X-Robots-Tag:noindex
X-PUBLISHED-TTL:PT1H
BEGIN:VTIMEZONE
TZID:America/Toronto
BEGIN:DAYLIGHT
TZOFFSETFROM:-0500
TZOFFSETTO:-0400
TZNAME:EDT
DTSTART:20220313T070000
END:DAYLIGHT
BEGIN:STANDARD
TZOFFSETFROM:-0400
TZOFFSETTO:-0500
TZNAME:EST
DTSTART:20221106T060000
END:STANDARD
BEGIN:DAYLIGHT
TZOFFSETFROM:-0500
TZOFFSETTO:-0400
TZNAME:EDT
DTSTART:20230312T070000
END:DAYLIGHT
BEGIN:STANDARD
TZOFFSETFROM:-0400
TZOFFSETTO:-0500
TZNAME:EST
DTSTART:20231105T060000
END:STANDARD
BEGIN:DAYLIGHT
TZOFFSETFROM:-0500
TZOFFSETTO:-0400
TZNAME:EDT
DTSTART:20240310T070000
END:DAYLIGHT
BEGIN:STANDARD
TZOFFSETFROM:-0400
TZOFFSETTO:-0500
TZNAME:EST
DTSTART:20241103T060000
END:STANDARD
END:VTIMEZONE
BEGIN:VEVENT
DTSTART;TZID=America/Toronto:20231114T100000
DTEND;TZID=America/Toronto:20231114T140000
DTSTAMP:20260423T212548
CREATED:20230929T174524Z
LAST-MODIFIED:20231006T200529Z
UID:10000059-1699956000-1699970400@brockboardoftrade.com
SUMMARY:North Durham Building Business Forum
DESCRIPTION:Join fellow rural business leaders at Trail Hub in the Township of Uxbridge for the return of the North Durham Building Business Forum. \nThis high-energy event aims to inspire new ideas\, share knowledge and best practices applicable to a wide range of businesses\, help business leaders make strategic connections\, and share information about business supports available throughout Durham Region.  Limited seating is available and lunch will be provided. \nFor Registration & Event Details\, go to:\nNorthDurhamBuildingBusinessForum2023.eventbrite.ca \nAttendees are welcome to walk the trails and experience the beauty of Durham Region at the end of the event. \nBefore exploring the trails\, please submit a waiver in advance\, dated for November 14\, 2023: https://app.waiverelectronic.com/render/templateByRefId/TrailHubWaivers \nFor more information about the trails\, visit TrailHub.ca
URL:https://brockboardoftrade.com/event/north-durham-building-business-forum/
LOCATION:Trail Hub\, 722 Chalk Lake Road\, Uxbridge\, Ontario\, L9P 1R4\, Canada
CATEGORIES:Brock Board of Trade
END:VEVENT
END:VCALENDAR