BEGIN:VCALENDAR
VERSION:2.0
PRODID:-//Brock Board of Trade - ECPv6.15.20//NONSGML v1.0//EN
CALSCALE:GREGORIAN
METHOD:PUBLISH
X-ORIGINAL-URL:https://brockboardoftrade.com
X-WR-CALDESC:Events for Brock Board of Trade
REFRESH-INTERVAL;VALUE=DURATION:PT1H
X-Robots-Tag:noindex
X-PUBLISHED-TTL:PT1H
BEGIN:VTIMEZONE
TZID:America/Toronto
BEGIN:DAYLIGHT
TZOFFSETFROM:-0500
TZOFFSETTO:-0400
TZNAME:EDT
DTSTART:20230312T070000
END:DAYLIGHT
BEGIN:STANDARD
TZOFFSETFROM:-0400
TZOFFSETTO:-0500
TZNAME:EST
DTSTART:20231105T060000
END:STANDARD
BEGIN:DAYLIGHT
TZOFFSETFROM:-0500
TZOFFSETTO:-0400
TZNAME:EDT
DTSTART:20240310T070000
END:DAYLIGHT
BEGIN:STANDARD
TZOFFSETFROM:-0400
TZOFFSETTO:-0500
TZNAME:EST
DTSTART:20241103T060000
END:STANDARD
BEGIN:DAYLIGHT
TZOFFSETFROM:-0500
TZOFFSETTO:-0400
TZNAME:EDT
DTSTART:20250309T070000
END:DAYLIGHT
BEGIN:STANDARD
TZOFFSETFROM:-0400
TZOFFSETTO:-0500
TZNAME:EST
DTSTART:20251102T060000
END:STANDARD
END:VTIMEZONE
BEGIN:VEVENT
DTSTART;TZID=America/Toronto:20240623T130000
DTEND;TZID=America/Toronto:20240623T170000
DTSTAMP:20260423T225159
CREATED:20240415T162610Z
LAST-MODIFIED:20240415T162730Z
UID:10000092-1719147600-1719162000@brockboardoftrade.com
SUMMARY:Manilla Hall Fiddle Jam
DESCRIPTION:Come together to enjoy the music and to dance!
URL:https://brockboardoftrade.com/event/manilla-hall-fiddle-jam-2/
LOCATION:Manilla Hall\, 16990 Simcoe Street\, Sunderland\, Ontario\, L0C 1H0\, Canada
ORGANIZER;CN="Manilla Hall Community Association":MAILTO:bctelfer@gmail.com
END:VEVENT
BEGIN:VEVENT
DTSTART;TZID=America/Toronto:20240620T100000
DTEND;TZID=America/Toronto:20240620T130000
DTSTAMP:20260423T225159
CREATED:20240408T151608Z
LAST-MODIFIED:20240408T153137Z
UID:10000084-1718877600-1718888400@brockboardoftrade.com
SUMMARY:Manilla Hall Food for Thought
DESCRIPTION:Community luncheon with three speakers.\nCost is $10\nR.S.V.P. Anne Hardy 705 357 3637
URL:https://brockboardoftrade.com/event/manilla-hall-food-for-thought-2/2024-06-20/
LOCATION:Manilla Hall\, 16990 Simcoe Street\, Sunderland\, Ontario\, L0C 1H0\, Canada
ORGANIZER;CN="Manilla Hall Community Association":MAILTO:bctelfer@gmail.com
END:VEVENT
BEGIN:VEVENT
DTSTART;TZID=America/Toronto:20240608T110000
DTEND;TZID=America/Toronto:20240608T140000
DTSTAMP:20260423T225159
CREATED:20240423T165543Z
LAST-MODIFIED:20240423T165543Z
UID:10000093-1717844400-1717855200@brockboardoftrade.com
SUMMARY:Meet and Greet Barbecue
DESCRIPTION:Community event
URL:https://brockboardoftrade.com/event/meet-and-greet-barbecue/
LOCATION:Manilla Hall\, 16990 Simcoe Street\, Sunderland\, Ontario\, L0C 1H0\, Canada
ORGANIZER;CN="Manilla Hall Community Association":MAILTO:bctelfer@gmail.com
END:VEVENT
BEGIN:VEVENT
DTSTART;TZID=America/Toronto:20240526T130000
DTEND;TZID=America/Toronto:20240526T170000
DTSTAMP:20260423T225159
CREATED:20240415T163132Z
LAST-MODIFIED:20240415T163132Z
UID:10000091-1716728400-1716742800@brockboardoftrade.com
SUMMARY:Manilla Hall Fiddle Jam
DESCRIPTION:Gather to enjoy the music and dance.
URL:https://brockboardoftrade.com/event/manilla-hall-fiddle-jam-3/
LOCATION:Manilla Hall\, 16990 Simcoe Street\, Sunderland\, Ontario\, L0C 1H0\, Canada
ORGANIZER;CN="Manilla Hall Community Association":MAILTO:bctelfer@gmail.com
END:VEVENT
BEGIN:VEVENT
DTSTART;TZID=America/Toronto:20240518T083000
DTEND;TZID=America/Toronto:20240518T120000
DTSTAMP:20260423T225159
CREATED:20240423T164852Z
LAST-MODIFIED:20240423T165142Z
UID:10000094-1716021000-1716033600@brockboardoftrade.com
SUMMARY:Manilla Hall Spring plant and yard sale
DESCRIPTION:Spring Plant and Yard Sale\n8:30 a.m. until sold out!
URL:https://brockboardoftrade.com/event/manilla-hall-spring-plant-and-yard-sale/
LOCATION:Manilla Hall\, 16990 Simcoe Street\, Sunderland\, Ontario\, L0C 1H0\, Canada
ORGANIZER;CN="Manilla Hall Community Association":MAILTO:bctelfer@gmail.com
END:VEVENT
BEGIN:VEVENT
DTSTART;TZID=America/Toronto:20240516T100000
DTEND;TZID=America/Toronto:20240516T130000
DTSTAMP:20260423T225159
CREATED:20240408T151608Z
LAST-MODIFIED:20240408T153137Z
UID:10000083-1715853600-1715864400@brockboardoftrade.com
SUMMARY:Manilla Hall Food for Thought
DESCRIPTION:Community luncheon with three speakers.\nCost is $10\nR.S.V.P. Anne Hardy 705 357 3637
URL:https://brockboardoftrade.com/event/manilla-hall-food-for-thought-2/2024-05-16/
LOCATION:Manilla Hall\, 16990 Simcoe Street\, Sunderland\, Ontario\, L0C 1H0\, Canada
ORGANIZER;CN="Manilla Hall Community Association":MAILTO:bctelfer@gmail.com
END:VEVENT
BEGIN:VEVENT
DTSTART;TZID=America/Toronto:20240428T130000
DTEND;TZID=America/Toronto:20240428T170000
DTSTAMP:20260423T225159
CREATED:20240414T234449Z
LAST-MODIFIED:20240414T234801Z
UID:10000090-1714309200-1714323600@brockboardoftrade.com
SUMMARY:Manilla Hall Fiddle Jam
DESCRIPTION:Come together for music and dancing!\n1 to 5 p.m. $5
URL:https://brockboardoftrade.com/event/manilla-hall-fiddle-jam/
LOCATION:Manilla Hall\, 16990 Simcoe Street\, Sunderland\, Ontario\, L0C 1H0\, Canada
ORGANIZER;CN="Manilla Hall Community Association":MAILTO:bctelfer@gmail.com
END:VEVENT
BEGIN:VEVENT
DTSTART;TZID=America/Toronto:20240418T100000
DTEND;TZID=America/Toronto:20240418T130000
DTSTAMP:20260423T225159
CREATED:20240402T164810Z
LAST-MODIFIED:20240402T164823Z
UID:10000082-1713434400-1713445200@brockboardoftrade.com
SUMMARY:Manilla Hall Food for Thought
DESCRIPTION:Community luncheon with three speakers.\nCost is $10\nR.S.V.P. Anne Hardy 705 357 3637
URL:https://brockboardoftrade.com/event/manilla-hall-food-for-thought/
LOCATION:Manilla Hall\, 16990 Simcoe Street\, Sunderland\, Ontario\, L0C 1H0\, Canada
ORGANIZER;CN="Manilla Hall Community Association":MAILTO:bctelfer@gmail.com
END:VEVENT
END:VCALENDAR