BEGIN:VCALENDAR
VERSION:2.0
PRODID:-//Brock Board of Trade - ECPv6.15.20//NONSGML v1.0//EN
CALSCALE:GREGORIAN
METHOD:PUBLISH
X-WR-CALNAME:Brock Board of Trade
X-ORIGINAL-URL:https://brockboardoftrade.com
X-WR-CALDESC:Events for Brock Board of Trade
REFRESH-INTERVAL;VALUE=DURATION:PT1H
X-Robots-Tag:noindex
X-PUBLISHED-TTL:PT1H
BEGIN:VTIMEZONE
TZID:America/Toronto
BEGIN:DAYLIGHT
TZOFFSETFROM:-0500
TZOFFSETTO:-0400
TZNAME:EDT
DTSTART:20230312T070000
END:DAYLIGHT
BEGIN:STANDARD
TZOFFSETFROM:-0400
TZOFFSETTO:-0500
TZNAME:EST
DTSTART:20231105T060000
END:STANDARD
BEGIN:DAYLIGHT
TZOFFSETFROM:-0500
TZOFFSETTO:-0400
TZNAME:EDT
DTSTART:20240310T070000
END:DAYLIGHT
BEGIN:STANDARD
TZOFFSETFROM:-0400
TZOFFSETTO:-0500
TZNAME:EST
DTSTART:20241103T060000
END:STANDARD
BEGIN:DAYLIGHT
TZOFFSETFROM:-0500
TZOFFSETTO:-0400
TZNAME:EDT
DTSTART:20250309T070000
END:DAYLIGHT
BEGIN:STANDARD
TZOFFSETFROM:-0400
TZOFFSETTO:-0500
TZNAME:EST
DTSTART:20251102T060000
END:STANDARD
END:VTIMEZONE
BEGIN:VEVENT
DTSTART;TZID=America/Toronto:20240406T100000
DTEND;TZID=America/Toronto:20240406T160000
DTSTAMP:20260423T224738
CREATED:20240401T132628Z
LAST-MODIFIED:20240401T133226Z
UID:10000080-1712397600-1712419200@brockboardoftrade.com
SUMMARY:Rolling Hill Studio Open House
DESCRIPTION:Join us for an exciting Open House event on Saturday\, April 6th from 10am to 4pm! I invite you to come and see the stunning new sculptures I have created for the full day and half day workshops. Don’t miss out on the opportunity to experience these incredible works of art. Plus\, enjoy a refreshing cup of coffee and some refreshments while you explore.
URL:https://brockboardoftrade.com/event/open-house/
LOCATION:Rolling Hills Studio\, S -10445 Side Rd 17\, Sunderland\, Ontario\, L0C 1H0\, Canada
ORGANIZER;CN="Rolling Hills Studio":MAILTO:rollinghillsstudio@live.ca
END:VEVENT
END:VCALENDAR