BEGIN:VCALENDAR
VERSION:2.0
PRODID:-//Brock Board of Trade - ECPv6.15.20//NONSGML v1.0//EN
CALSCALE:GREGORIAN
METHOD:PUBLISH
X-ORIGINAL-URL:https://brockboardoftrade.com
X-WR-CALDESC:Events for Brock Board of Trade
REFRESH-INTERVAL;VALUE=DURATION:PT1H
X-Robots-Tag:noindex
X-PUBLISHED-TTL:PT1H
BEGIN:VTIMEZONE
TZID:America/Toronto
BEGIN:DAYLIGHT
TZOFFSETFROM:-0500
TZOFFSETTO:-0400
TZNAME:EDT
DTSTART:20170312T070000
END:DAYLIGHT
BEGIN:STANDARD
TZOFFSETFROM:-0400
TZOFFSETTO:-0500
TZNAME:EST
DTSTART:20171105T060000
END:STANDARD
BEGIN:DAYLIGHT
TZOFFSETFROM:-0500
TZOFFSETTO:-0400
TZNAME:EDT
DTSTART:20180311T070000
END:DAYLIGHT
BEGIN:STANDARD
TZOFFSETFROM:-0400
TZOFFSETTO:-0500
TZNAME:EST
DTSTART:20181104T060000
END:STANDARD
BEGIN:DAYLIGHT
TZOFFSETFROM:-0500
TZOFFSETTO:-0400
TZNAME:EDT
DTSTART:20190310T070000
END:DAYLIGHT
BEGIN:STANDARD
TZOFFSETFROM:-0400
TZOFFSETTO:-0500
TZNAME:EST
DTSTART:20191103T060000
END:STANDARD
BEGIN:DAYLIGHT
TZOFFSETFROM:-0500
TZOFFSETTO:-0400
TZNAME:EDT
DTSTART:20200308T070000
END:DAYLIGHT
BEGIN:STANDARD
TZOFFSETFROM:-0400
TZOFFSETTO:-0500
TZNAME:EST
DTSTART:20201101T060000
END:STANDARD
BEGIN:DAYLIGHT
TZOFFSETFROM:-0500
TZOFFSETTO:-0400
TZNAME:EDT
DTSTART:20210314T070000
END:DAYLIGHT
BEGIN:STANDARD
TZOFFSETFROM:-0400
TZOFFSETTO:-0500
TZNAME:EST
DTSTART:20211107T060000
END:STANDARD
BEGIN:DAYLIGHT
TZOFFSETFROM:-0500
TZOFFSETTO:-0400
TZNAME:EDT
DTSTART:20220313T070000
END:DAYLIGHT
BEGIN:STANDARD
TZOFFSETFROM:-0400
TZOFFSETTO:-0500
TZNAME:EST
DTSTART:20221106T060000
END:STANDARD
BEGIN:DAYLIGHT
TZOFFSETFROM:-0500
TZOFFSETTO:-0400
TZNAME:EDT
DTSTART:20230312T070000
END:DAYLIGHT
BEGIN:STANDARD
TZOFFSETFROM:-0400
TZOFFSETTO:-0500
TZNAME:EST
DTSTART:20231105T060000
END:STANDARD
BEGIN:DAYLIGHT
TZOFFSETFROM:-0500
TZOFFSETTO:-0400
TZNAME:EDT
DTSTART:20240310T070000
END:DAYLIGHT
BEGIN:STANDARD
TZOFFSETFROM:-0400
TZOFFSETTO:-0500
TZNAME:EST
DTSTART:20241103T060000
END:STANDARD
BEGIN:DAYLIGHT
TZOFFSETFROM:-0500
TZOFFSETTO:-0400
TZNAME:EDT
DTSTART:20250309T070000
END:DAYLIGHT
BEGIN:STANDARD
TZOFFSETFROM:-0400
TZOFFSETTO:-0500
TZNAME:EST
DTSTART:20251102T060000
END:STANDARD
BEGIN:DAYLIGHT
TZOFFSETFROM:-0500
TZOFFSETTO:-0400
TZNAME:EDT
DTSTART:20260308T070000
END:DAYLIGHT
BEGIN:STANDARD
TZOFFSETFROM:-0400
TZOFFSETTO:-0500
TZNAME:EST
DTSTART:20261101T060000
END:STANDARD
END:VTIMEZONE
BEGIN:VEVENT
DTSTART;TZID=America/Toronto:20250416T173000
DTEND;TZID=America/Toronto:20250416T193000
DTSTAMP:20260423T201022
CREATED:20250310T165000Z
LAST-MODIFIED:20250310T175059Z
UID:10000122-1744824600-1744831800@brockboardoftrade.com
SUMMARY:Mayor Schummer's Business Networking Event
DESCRIPTION:Twice a year the Township of Brock’s Mayor and Council invite local businesses to a free networking event! This is an opportunity for the Township to provide municipal and regional updates to help you better serve our community. \n✅2025 Mayor’s Networking Business Event: \nWednesday April 16th at 5:30 p.m. to 7:30pm\nRick  MacLeish Memorial Community Centre\, Cannington\nLocal business owners are encouraged register online for the event\, as well as provide suggestions for topics of discussion. Appetizers and light refreshments will be available for attendees to enjoy as the Mayor provides a brief presentation. Municipal and Regional staff will also be in attendance to answer any questions that you may have.\nSpace is limited\, register today to secure your spot \nhttps://ow.ly/2lxQ50V4A48 \n 
URL:https://brockboardoftrade.com/event/mayor-schummers-business-networking-event/
LOCATION:Rick MacLeish Memorial Community Centre\, 91 Elliot Street\, Cannington\, Ontario\, L0E 1E0\, Canada
ATTACH;FMTTYPE=image/png:https://brockboardoftrade.com/wp-content/uploads/2025/03/Schummer-Networking-event_-002.png
END:VEVENT
BEGIN:VEVENT
DTSTART;TZID=America/Toronto:20241002T173000
DTEND;TZID=America/Toronto:20241002T193000
DTSTAMP:20260423T201022
CREATED:20240919T151616Z
LAST-MODIFIED:20240919T152242Z
UID:10000105-1727890200-1727897400@brockboardoftrade.com
SUMMARY:Mayor's Networking Event
DESCRIPTION:Attention Non-profit and Community Groups in Brock!! \nThis is an opportunity for the Township to provide municipal and regional updates to help you better serve our community. \nNon-profit and community groups are encouraged register online for the event\, as well as provide suggestions for topics of discussion.  Appetizers and light refreshments will be available for attendees to enjoy as the Mayor provides a brief presentation. Municipal staff will also be in attendance to answer any questions that you may have. \n  \n✅2024 Mayor’s Networking Event \n🗓Wednesday October 2 at 5:30 p.m. \n📍Sunderland Town Hall\, 120 River Street\, Sunderland \n  \nSpace is limited\, register today to secure your spot \nwww.townshipofbrock.ca/en/building-and-business-development/mayors-networking-event.aspx \n  \n 
URL:https://brockboardoftrade.com/event/4555/
LOCATION:Sunderland Town Hall\, 120 River St\, Sunderland\, Ontario\, L0C 1H0\, Canada
ATTACH;FMTTYPE=image/jpeg:https://brockboardoftrade.com/wp-content/uploads/2024/09/mayor-networking.jpg
END:VEVENT
BEGIN:VEVENT
DTSTART;TZID=America/Toronto:20240415T173000
DTEND;TZID=America/Toronto:20240415T193000
DTSTAMP:20260423T201022
CREATED:20240314T173249Z
LAST-MODIFIED:20240401T183843Z
UID:10000075-1713202200-1713209400@brockboardoftrade.com
SUMMARY:Mayor Schummer's  Networking Event
DESCRIPTION:  \n\n\n\n\nMayor Schummer’s Networking Event\nHope to see many of BBOT member business owners at this event. We will have a vendor table to promote you – our members!\nPlease register to secure your attendance. \nTwice a year the Township of Brock’s Mayor and Council invite local businesses to a free networking event! This is an opportunity for the Township to provide municipal and regional updates to help you better serve our community.\n2024 Mayor’s Networking Business Event\nMonday April 15th at 5:30 p.m.\nBeaverton Town Hall 397 Simcoe Street\, Beaverton. \nLocal business owners are encouraged register online for the event\, as well as provide suggestions for topics of discussion. Appetizers and light refreshments will be available for attendees to enjoy as the Mayor provides a brief presentation. \nMunicipal and Regional staff will also be in attendance to answer any questions that you may have.\nSpace is limited\, register here today to secure your spot.
URL:https://brockboardoftrade.com/event/mayor-schummers-networking-event/
LOCATION:Beaverton Old Town Hall\, 397 Simcoe Street\, Beaverton\, Ontario\, L0K 1A0\, Canada
END:VEVENT
BEGIN:VEVENT
DTSTART;TZID=America/Toronto:20180425T073000
DTEND;TZID=America/Toronto:20180425T093000
DTSTAMP:20260423T201022
CREATED:20180402T212913Z
LAST-MODIFIED:20180402T212913Z
UID:10000028-1524641400-1524648600@brockboardoftrade.com
SUMMARY:Mayor's Business Breakfast
DESCRIPTION:Mayor’s Networking Business Breakfast\nThe 2018 Spring Mayor’s Networking Business Breakfast will be held on Wednesday\, April 25 at the Beaverton Thorah Community Centre in Beaverton. An bi-annual event held by the Mayor and members of Council in conjunction with the Brock Economic Development Advisory Committee\, in which businesses in the Township are invited to attend this free event to network and be updated on current planning and economic initiatives taking place in the Township. \nWednesday\, April 25\, 2018\n7:30 a.m. – 9:30 a.m.\nBeaverton Thorah Community Centre\n176 Main Street\, Beaverton\nRegistration will start at 7:15 a.m. \nRegister today for the 2018 Spring Mayor’s Networking Business Breakfast!
URL:https://brockboardoftrade.com/event/mayors-business-breakfast/
LOCATION:Beaverton Arena\, 176 Main Street\, Beaverton\, Ontario\, L0K 1A0\, Canada
END:VEVENT
END:VCALENDAR