BEGIN:VCALENDAR
VERSION:2.0
PRODID:-//Brock Board of Trade - ECPv6.15.20//NONSGML v1.0//EN
CALSCALE:GREGORIAN
METHOD:PUBLISH
X-WR-CALNAME:Brock Board of Trade
X-ORIGINAL-URL:https://brockboardoftrade.com
X-WR-CALDESC:Events for Brock Board of Trade
REFRESH-INTERVAL;VALUE=DURATION:PT1H
X-Robots-Tag:noindex
X-PUBLISHED-TTL:PT1H
BEGIN:VTIMEZONE
TZID:America/Toronto
BEGIN:DAYLIGHT
TZOFFSETFROM:-0500
TZOFFSETTO:-0400
TZNAME:EDT
DTSTART:20240310T070000
END:DAYLIGHT
BEGIN:STANDARD
TZOFFSETFROM:-0400
TZOFFSETTO:-0500
TZNAME:EST
DTSTART:20241103T060000
END:STANDARD
BEGIN:DAYLIGHT
TZOFFSETFROM:-0500
TZOFFSETTO:-0400
TZNAME:EDT
DTSTART:20250309T070000
END:DAYLIGHT
BEGIN:STANDARD
TZOFFSETFROM:-0400
TZOFFSETTO:-0500
TZNAME:EST
DTSTART:20251102T060000
END:STANDARD
BEGIN:DAYLIGHT
TZOFFSETFROM:-0500
TZOFFSETTO:-0400
TZNAME:EDT
DTSTART:20260308T070000
END:DAYLIGHT
BEGIN:STANDARD
TZOFFSETFROM:-0400
TZOFFSETTO:-0500
TZNAME:EST
DTSTART:20261101T060000
END:STANDARD
END:VTIMEZONE
BEGIN:VEVENT
DTSTART;TZID=America/Toronto:20251022T180000
DTEND;TZID=America/Toronto:20251022T200000
DTSTAMP:20260423T200634
CREATED:20251010T115115Z
LAST-MODIFIED:20251010T115115Z
UID:10000327-1761156000-1761163200@brockboardoftrade.com
SUMMARY:Dinner at Brisket Daddy!
DESCRIPTION:Join the Brock Board of Trade in celebrating Small Business Week with a delicious dinner event at Brisket Daddy! \nOur member businesses\, employees\, community partners and friends are invited to join us for dinner with our member\, Brisket Daddy BBQ!\nDinner is $22/person and this will include: \nPhilly Cheese Brisket Sandwich or \nBaked Potato Bowl (butter\, cheddar\, BBQ beans\, and pulled pork or brisket to top) \nIf you’ve never tried Eric’s food\, you’re in for a treat! You’ll also be able to connect with your fellow business owners\, community members\, and BBOT staff and board members. \nregister here
URL:https://brockboardoftrade.com/event/dinner-at-brisket-daddy-2/
LOCATION:Brisket Daddy\, 311 Highway 7\, Kawartha Lakes\, Ontario\, K0M 2J0\, Canada
ATTACH;FMTTYPE=image/jpeg:https://brockboardoftrade.com/wp-content/uploads/2025/10/new-logo.jpg
END:VEVENT
END:VCALENDAR