BEGIN:VCALENDAR
VERSION:2.0
PRODID:-//Brock Board of Trade - ECPv6.15.20//NONSGML v1.0//EN
CALSCALE:GREGORIAN
METHOD:PUBLISH
X-WR-CALNAME:Brock Board of Trade
X-ORIGINAL-URL:https://brockboardoftrade.com
X-WR-CALDESC:Events for Brock Board of Trade
REFRESH-INTERVAL;VALUE=DURATION:PT1H
X-Robots-Tag:noindex
X-PUBLISHED-TTL:PT1H
BEGIN:VTIMEZONE
TZID:America/Toronto
BEGIN:DAYLIGHT
TZOFFSETFROM:-0500
TZOFFSETTO:-0400
TZNAME:EDT
DTSTART:20170312T070000
END:DAYLIGHT
BEGIN:STANDARD
TZOFFSETFROM:-0400
TZOFFSETTO:-0500
TZNAME:EST
DTSTART:20171105T060000
END:STANDARD
BEGIN:DAYLIGHT
TZOFFSETFROM:-0500
TZOFFSETTO:-0400
TZNAME:EDT
DTSTART:20180311T070000
END:DAYLIGHT
BEGIN:STANDARD
TZOFFSETFROM:-0400
TZOFFSETTO:-0500
TZNAME:EST
DTSTART:20181104T060000
END:STANDARD
BEGIN:DAYLIGHT
TZOFFSETFROM:-0500
TZOFFSETTO:-0400
TZNAME:EDT
DTSTART:20190310T070000
END:DAYLIGHT
BEGIN:STANDARD
TZOFFSETFROM:-0400
TZOFFSETTO:-0500
TZNAME:EST
DTSTART:20191103T060000
END:STANDARD
BEGIN:DAYLIGHT
TZOFFSETFROM:-0500
TZOFFSETTO:-0400
TZNAME:EDT
DTSTART:20200308T070000
END:DAYLIGHT
BEGIN:STANDARD
TZOFFSETFROM:-0400
TZOFFSETTO:-0500
TZNAME:EST
DTSTART:20201101T060000
END:STANDARD
BEGIN:DAYLIGHT
TZOFFSETFROM:-0500
TZOFFSETTO:-0400
TZNAME:EDT
DTSTART:20210314T070000
END:DAYLIGHT
BEGIN:STANDARD
TZOFFSETFROM:-0400
TZOFFSETTO:-0500
TZNAME:EST
DTSTART:20211107T060000
END:STANDARD
BEGIN:DAYLIGHT
TZOFFSETFROM:-0500
TZOFFSETTO:-0400
TZNAME:EDT
DTSTART:20220313T070000
END:DAYLIGHT
BEGIN:STANDARD
TZOFFSETFROM:-0400
TZOFFSETTO:-0500
TZNAME:EST
DTSTART:20221106T060000
END:STANDARD
BEGIN:DAYLIGHT
TZOFFSETFROM:-0500
TZOFFSETTO:-0400
TZNAME:EDT
DTSTART:20230312T070000
END:DAYLIGHT
BEGIN:STANDARD
TZOFFSETFROM:-0400
TZOFFSETTO:-0500
TZNAME:EST
DTSTART:20231105T060000
END:STANDARD
BEGIN:DAYLIGHT
TZOFFSETFROM:-0500
TZOFFSETTO:-0400
TZNAME:EDT
DTSTART:20240310T070000
END:DAYLIGHT
BEGIN:STANDARD
TZOFFSETFROM:-0400
TZOFFSETTO:-0500
TZNAME:EST
DTSTART:20241103T060000
END:STANDARD
BEGIN:DAYLIGHT
TZOFFSETFROM:-0500
TZOFFSETTO:-0400
TZNAME:EDT
DTSTART:20250309T070000
END:DAYLIGHT
BEGIN:STANDARD
TZOFFSETFROM:-0400
TZOFFSETTO:-0500
TZNAME:EST
DTSTART:20251102T060000
END:STANDARD
BEGIN:DAYLIGHT
TZOFFSETFROM:-0500
TZOFFSETTO:-0400
TZNAME:EDT
DTSTART:20260308T070000
END:DAYLIGHT
BEGIN:STANDARD
TZOFFSETFROM:-0400
TZOFFSETTO:-0500
TZNAME:EST
DTSTART:20261101T060000
END:STANDARD
BEGIN:DAYLIGHT
TZOFFSETFROM:-0500
TZOFFSETTO:-0400
TZNAME:EDT
DTSTART:20270314T070000
END:DAYLIGHT
BEGIN:STANDARD
TZOFFSETFROM:-0400
TZOFFSETTO:-0500
TZNAME:EST
DTSTART:20271107T060000
END:STANDARD
END:VTIMEZONE
BEGIN:VEVENT
DTSTART;TZID=America/Toronto:20260325T190000
DTEND;TZID=America/Toronto:20260325T210000
DTSTAMP:20260423T173606
CREATED:20260307T170122Z
LAST-MODIFIED:20260307T170122Z
UID:10000363-1774465200-1774472400@brockboardoftrade.com
SUMMARY:Board Meeting
DESCRIPTION:
URL:https://brockboardoftrade.com/event/board-meeting-15/
LOCATION:Beaverton Old Town Hall\, 397 Simcoe Street\, Beaverton\, Ontario\, L0K 1A0\, Canada
END:VEVENT
BEGIN:VEVENT
DTSTART;TZID=America/Toronto:20251015T190000
DTEND;TZID=America/Toronto:20251015T210000
DTSTAMP:20260423T173606
CREATED:20250416T152550Z
LAST-MODIFIED:20250416T153007Z
UID:10000130-1760554800-1760562000@brockboardoftrade.com
SUMMARY:BBOT Board Meeting
DESCRIPTION:
URL:https://brockboardoftrade.com/event/bbot-board-meeting-4/
LOCATION:Beaverton Old Town Hall\, 397 Simcoe Street\, Beaverton\, Ontario\, L0K 1A0\, Canada
END:VEVENT
BEGIN:VEVENT
DTSTART;TZID=America/Toronto:20250521T190000
DTEND;TZID=America/Toronto:20250521T210000
DTSTAMP:20260423T173606
CREATED:20250416T151204Z
LAST-MODIFIED:20250416T151204Z
UID:10000127-1747854000-1747861200@brockboardoftrade.com
SUMMARY:BBOT Board Meeting
DESCRIPTION:
URL:https://brockboardoftrade.com/event/bbot-board-meeting/
LOCATION:Beaverton Old Town Hall\, 397 Simcoe Street\, Beaverton\, Ontario\, L0K 1A0\, Canada
END:VEVENT
BEGIN:VEVENT
DTSTART;TZID=America/Toronto:20250211T180000
DTEND;TZID=America/Toronto:20250211T203000
DTSTAMP:20260423T173606
CREATED:20250116T204718Z
LAST-MODIFIED:20250120T214732Z
UID:10000120-1739296800-1739305800@brockboardoftrade.com
SUMMARY:Brock Board of Trade AGM 2025
DESCRIPTION:Join us at the Beaverton Town Hall Auditorium\, all welcome! \nGUEST SPEAKER:\nChuck Thibeault/Central Counties Tourism \n$15person\, Includes Refreshments\nRSVP Required
URL:https://brockboardoftrade.com/event/brock-board-of-trade-agm-2025/
LOCATION:Beaverton Old Town Hall\, 397 Simcoe Street\, Beaverton\, Ontario\, L0K 1A0\, Canada
ATTACH;FMTTYPE=image/jpeg:https://brockboardoftrade.com/wp-content/uploads/2025/01/AGM-2025.jpg
END:VEVENT
BEGIN:VEVENT
DTSTART;TZID=America/Toronto:20241016T190000
DTEND;TZID=America/Toronto:20241016T210000
DTSTAMP:20260423T173606
CREATED:20240116T191248Z
LAST-MODIFIED:20240919T153242Z
UID:10000072-1729105200-1729112400@brockboardoftrade.com
SUMMARY:Board Meeting
DESCRIPTION:
URL:https://brockboardoftrade.com/event/board-meeting-8/
LOCATION:Beaverton Old Town Hall\, 397 Simcoe Street\, Beaverton\, Ontario\, L0K 1A0\, Canada
END:VEVENT
BEGIN:VEVENT
DTSTART;TZID=America/Toronto:20240515T190000
DTEND;TZID=America/Toronto:20240515T210000
DTSTAMP:20260423T173606
CREATED:20240116T191405Z
LAST-MODIFIED:20240116T191405Z
UID:10000073-1715799600-1715806800@brockboardoftrade.com
SUMMARY:Board Meeting
DESCRIPTION:
URL:https://brockboardoftrade.com/event/board-meeting-9/
LOCATION:Beaverton Old Town Hall\, 397 Simcoe Street\, Beaverton\, Ontario\, L0K 1A0\, Canada
END:VEVENT
BEGIN:VEVENT
DTSTART;TZID=America/Toronto:20240415T173000
DTEND;TZID=America/Toronto:20240415T193000
DTSTAMP:20260423T173606
CREATED:20240314T173249Z
LAST-MODIFIED:20240401T183843Z
UID:10000075-1713202200-1713209400@brockboardoftrade.com
SUMMARY:Mayor Schummer's  Networking Event
DESCRIPTION:  \n\n\n\n\nMayor Schummer’s Networking Event\nHope to see many of BBOT member business owners at this event. We will have a vendor table to promote you – our members!\nPlease register to secure your attendance. \nTwice a year the Township of Brock’s Mayor and Council invite local businesses to a free networking event! This is an opportunity for the Township to provide municipal and regional updates to help you better serve our community.\n2024 Mayor’s Networking Business Event\nMonday April 15th at 5:30 p.m.\nBeaverton Town Hall 397 Simcoe Street\, Beaverton. \nLocal business owners are encouraged register online for the event\, as well as provide suggestions for topics of discussion. Appetizers and light refreshments will be available for attendees to enjoy as the Mayor provides a brief presentation. \nMunicipal and Regional staff will also be in attendance to answer any questions that you may have.\nSpace is limited\, register here today to secure your spot.
URL:https://brockboardoftrade.com/event/mayor-schummers-networking-event/
LOCATION:Beaverton Old Town Hall\, 397 Simcoe Street\, Beaverton\, Ontario\, L0K 1A0\, Canada
END:VEVENT
BEGIN:VEVENT
DTSTART;TZID=America/Toronto:20231122T190000
DTEND;TZID=America/Toronto:20231122T210000
DTSTAMP:20260423T173606
CREATED:20230717T171451Z
LAST-MODIFIED:20231005T161259Z
UID:10000048-1700679600-1700686800@brockboardoftrade.com
SUMMARY:Board Meeting
DESCRIPTION:Beaverton Town Hall
URL:https://brockboardoftrade.com/event/board-meeting-3/
LOCATION:Beaverton Old Town Hall\, 397 Simcoe Street\, Beaverton\, Ontario\, L0K 1A0\, Canada
CATEGORIES:Brock Board of Trade
ATTACH;FMTTYPE=image/jpeg:https://brockboardoftrade.com/wp-content/uploads/2023/07/board-meeting.jpg
END:VEVENT
BEGIN:VEVENT
DTSTART;TZID=America/Toronto:20181212T190000
DTEND;TZID=America/Toronto:20181212T210000
DTSTAMP:20260423T173606
CREATED:20180402T212038Z
LAST-MODIFIED:20180402T212038Z
UID:10000026-1544641200-1544648400@brockboardoftrade.com
SUMMARY:Council of Director's Monthly Meeting
DESCRIPTION:Our final 2018 monthly Council of Director’s meeting.
URL:https://brockboardoftrade.com/event/council-of-directors-monthly-meeting-12/
LOCATION:Beaverton Old Town Hall\, 397 Simcoe Street\, Beaverton\, Ontario\, L0K 1A0\, Canada
END:VEVENT
BEGIN:VEVENT
DTSTART;TZID=America/Toronto:20180912T190000
DTEND;TZID=America/Toronto:20180912T210000
DTSTAMP:20260423T173606
CREATED:20180402T211643Z
LAST-MODIFIED:20180402T211643Z
UID:10000023-1536778800-1536786000@brockboardoftrade.com
SUMMARY:Council of Director's Monthly Meeting
DESCRIPTION:Our monthly Council of Director’s meeting.
URL:https://brockboardoftrade.com/event/council-of-directors-monthly-meeting-9/
LOCATION:Beaverton Old Town Hall\, 397 Simcoe Street\, Beaverton\, Ontario\, L0K 1A0\, Canada
ORGANIZER;CN="Brock Board of Trade":MAILTO:brockboardoftrade@gmail.com
END:VEVENT
BEGIN:VEVENT
DTSTART;TZID=America/Toronto:20180613T190000
DTEND;TZID=America/Toronto:20180613T210000
DTSTAMP:20260423T173606
CREATED:20180402T211250Z
LAST-MODIFIED:20180402T211250Z
UID:10000020-1528916400-1528923600@brockboardoftrade.com
SUMMARY:Council of Director's Monthly Meeting
DESCRIPTION:Our monthly Council of Director’s meeting.
URL:https://brockboardoftrade.com/event/council-of-directors-monthly-meeting-6/
LOCATION:Beaverton Old Town Hall\, 397 Simcoe Street\, Beaverton\, Ontario\, L0K 1A0\, Canada
ORGANIZER;CN="Brock Board of Trade":MAILTO:brockboardoftrade@gmail.com
END:VEVENT
END:VCALENDAR