BEGIN:VCALENDAR
VERSION:2.0
PRODID:-//Brock Board of Trade - ECPv6.15.20//NONSGML v1.0//EN
CALSCALE:GREGORIAN
METHOD:PUBLISH
X-ORIGINAL-URL:https://brockboardoftrade.com
X-WR-CALDESC:Events for Brock Board of Trade
REFRESH-INTERVAL;VALUE=DURATION:PT1H
X-Robots-Tag:noindex
X-PUBLISHED-TTL:PT1H
BEGIN:VTIMEZONE
TZID:America/Toronto
BEGIN:DAYLIGHT
TZOFFSETFROM:-0500
TZOFFSETTO:-0400
TZNAME:EDT
DTSTART:20230312T070000
END:DAYLIGHT
BEGIN:STANDARD
TZOFFSETFROM:-0400
TZOFFSETTO:-0500
TZNAME:EST
DTSTART:20231105T060000
END:STANDARD
BEGIN:DAYLIGHT
TZOFFSETFROM:-0500
TZOFFSETTO:-0400
TZNAME:EDT
DTSTART:20240310T070000
END:DAYLIGHT
BEGIN:STANDARD
TZOFFSETFROM:-0400
TZOFFSETTO:-0500
TZNAME:EST
DTSTART:20241103T060000
END:STANDARD
BEGIN:DAYLIGHT
TZOFFSETFROM:-0500
TZOFFSETTO:-0400
TZNAME:EDT
DTSTART:20250309T070000
END:DAYLIGHT
BEGIN:STANDARD
TZOFFSETFROM:-0400
TZOFFSETTO:-0500
TZNAME:EST
DTSTART:20251102T060000
END:STANDARD
BEGIN:DAYLIGHT
TZOFFSETFROM:-0500
TZOFFSETTO:-0400
TZNAME:EDT
DTSTART:20260308T070000
END:DAYLIGHT
BEGIN:STANDARD
TZOFFSETFROM:-0400
TZOFFSETTO:-0500
TZNAME:EST
DTSTART:20261101T060000
END:STANDARD
END:VTIMEZONE
BEGIN:VEVENT
DTSTART;TZID=America/Toronto:20251111T080000
DTEND;TZID=America/Toronto:20251111T083000
DTSTAMP:20260423T200850
CREATED:20251105T213805Z
LAST-MODIFIED:20251105T213805Z
UID:10000337-1762848000-1762849800@brockboardoftrade.com
SUMMARY:Remembrance Day Sunrise Service - Cannington
DESCRIPTION:
URL:https://brockboardoftrade.com/event/remembrance-day-sunrise-service-cannington/
LOCATION:Cannington Legion\, 72 Peace Street\, Cannington\, Ontario\, L0E 1E0\, Canada
CATEGORIES:Community Events
END:VEVENT
BEGIN:VEVENT
DTSTART;TZID=America/Toronto:20240207T190000
DTEND;TZID=America/Toronto:20240207T210000
DTSTAMP:20260423T200850
CREATED:20240103T233445Z
LAST-MODIFIED:20240103T233445Z
UID:10000068-1707332400-1707339600@brockboardoftrade.com
SUMMARY:Brock Board of Trade AGM
DESCRIPTION:
URL:https://brockboardoftrade.com/event/brock-board-of-trade-agm/
LOCATION:Cannington Legion\, 72 Peace Street\, Cannington\, Ontario\, L0E 1E0\, Canada
END:VEVENT
END:VCALENDAR