BEGIN:VCALENDAR
VERSION:2.0
PRODID:-//Brock Board of Trade - ECPv6.15.20//NONSGML v1.0//EN
CALSCALE:GREGORIAN
METHOD:PUBLISH
X-WR-CALNAME:Brock Board of Trade
X-ORIGINAL-URL:https://brockboardoftrade.com
X-WR-CALDESC:Events for Brock Board of Trade
REFRESH-INTERVAL;VALUE=DURATION:PT1H
X-Robots-Tag:noindex
X-PUBLISHED-TTL:PT1H
BEGIN:VTIMEZONE
TZID:America/Toronto
BEGIN:DAYLIGHT
TZOFFSETFROM:-0500
TZOFFSETTO:-0400
TZNAME:EDT
DTSTART:20220313T070000
END:DAYLIGHT
BEGIN:STANDARD
TZOFFSETFROM:-0400
TZOFFSETTO:-0500
TZNAME:EST
DTSTART:20221106T060000
END:STANDARD
BEGIN:DAYLIGHT
TZOFFSETFROM:-0500
TZOFFSETTO:-0400
TZNAME:EDT
DTSTART:20230312T070000
END:DAYLIGHT
BEGIN:STANDARD
TZOFFSETFROM:-0400
TZOFFSETTO:-0500
TZNAME:EST
DTSTART:20231105T060000
END:STANDARD
BEGIN:DAYLIGHT
TZOFFSETFROM:-0500
TZOFFSETTO:-0400
TZNAME:EDT
DTSTART:20240310T070000
END:DAYLIGHT
BEGIN:STANDARD
TZOFFSETFROM:-0400
TZOFFSETTO:-0500
TZNAME:EST
DTSTART:20241103T060000
END:STANDARD
END:VTIMEZONE
BEGIN:VEVENT
DTSTART;TZID=America/Toronto:20231212T183000
DTEND;TZID=America/Toronto:20231212T200000
DTSTAMP:20260423T224405
CREATED:20230717T171615Z
LAST-MODIFIED:20231201T230637Z
UID:10000049-1702405800-1702411200@brockboardoftrade.com
SUMMARY:Holiday Social
DESCRIPTION:Join us for our Holiday Social \n\n\n\nDec 12th 6:30 to 8 pm drop in to – Mike Gibbs Floral Design\, Cannington\nfor coffee & snacks\, catch up with fellow business members and meet some of our newest members \n\n\n\nHope to see you there !\nRSVP required please email:\nbrockboardoftrade@gmail.com to let us know your our are coming
URL:https://brockboardoftrade.com/event/network-meeting-3/
LOCATION:Mike Gibbs Floral Design\, 16 Cameron Street\, Cannington\, Ontario\, L0E 1E0\, Canada
CATEGORIES:Brock Board of Trade
END:VEVENT
END:VCALENDAR