BEGIN:VCALENDAR
VERSION:2.0
PRODID:-//Brock Board of Trade - ECPv6.15.20//NONSGML v1.0//EN
CALSCALE:GREGORIAN
METHOD:PUBLISH
X-ORIGINAL-URL:https://brockboardoftrade.com
X-WR-CALDESC:Events for Brock Board of Trade
REFRESH-INTERVAL;VALUE=DURATION:PT1H
X-Robots-Tag:noindex
X-PUBLISHED-TTL:PT1H
BEGIN:VTIMEZONE
TZID:America/Toronto
BEGIN:DAYLIGHT
TZOFFSETFROM:-0500
TZOFFSETTO:-0400
TZNAME:EDT
DTSTART:20230312T070000
END:DAYLIGHT
BEGIN:STANDARD
TZOFFSETFROM:-0400
TZOFFSETTO:-0500
TZNAME:EST
DTSTART:20231105T060000
END:STANDARD
BEGIN:DAYLIGHT
TZOFFSETFROM:-0500
TZOFFSETTO:-0400
TZNAME:EDT
DTSTART:20240310T070000
END:DAYLIGHT
BEGIN:STANDARD
TZOFFSETFROM:-0400
TZOFFSETTO:-0500
TZNAME:EST
DTSTART:20241103T060000
END:STANDARD
BEGIN:DAYLIGHT
TZOFFSETFROM:-0500
TZOFFSETTO:-0400
TZNAME:EDT
DTSTART:20250309T070000
END:DAYLIGHT
BEGIN:STANDARD
TZOFFSETFROM:-0400
TZOFFSETTO:-0500
TZNAME:EST
DTSTART:20251102T060000
END:STANDARD
END:VTIMEZONE
BEGIN:VEVENT
DTSTART;TZID=America/Toronto:20241022T160000
DTEND;TZID=America/Toronto:20241022T200000
DTSTAMP:20260423T230152
CREATED:20240916T192400Z
LAST-MODIFIED:20240916T193252Z
UID:10000104-1729612800-1729627200@brockboardoftrade.com
SUMMARY:North Durham Building Business Forum
DESCRIPTION:Looking to incorporate artificial intelligence (AI) into your business but not sure where to start?  Register for the #NorthDurham Building Business Forum on October 22. \nBesides connecting with other rural business leaders\, entrepreneurs and #DurhamRegion community partners\, you’ll learn how to navigate the AI landscape. \nHear about recent advancements in AI technology and how it can drive business efficiency. \nA $10 charitable donation is all it takes to get in the door. \nRegister now: https://tr.ee/fGgJlVUdXx \n  \n 
URL:https://brockboardoftrade.com/event/north-durham-building-business-forum-2/
LOCATION:Mississaugas of Scugog Island First Nation Health & Resource Centre Hall\, 22600 Island Road L9L 1B6\, Port Perry\, Ontario\, L9L 1B6\, Canada
ATTACH;FMTTYPE=image/jpeg:https://brockboardoftrade.com/wp-content/uploads/2024/09/North-Durham-e1726514497738.jpeg
END:VEVENT
END:VCALENDAR