BEGIN:VCALENDAR
VERSION:2.0
PRODID:-//Brock Board of Trade - ECPv6.15.20//NONSGML v1.0//EN
CALSCALE:GREGORIAN
METHOD:PUBLISH
X-ORIGINAL-URL:https://brockboardoftrade.com
X-WR-CALDESC:Events for Brock Board of Trade
REFRESH-INTERVAL;VALUE=DURATION:PT1H
X-Robots-Tag:noindex
X-PUBLISHED-TTL:PT1H
BEGIN:VTIMEZONE
TZID:America/Toronto
BEGIN:DAYLIGHT
TZOFFSETFROM:-0500
TZOFFSETTO:-0400
TZNAME:EDT
DTSTART:20240310T070000
END:DAYLIGHT
BEGIN:STANDARD
TZOFFSETFROM:-0400
TZOFFSETTO:-0500
TZNAME:EST
DTSTART:20241103T060000
END:STANDARD
BEGIN:DAYLIGHT
TZOFFSETFROM:-0500
TZOFFSETTO:-0400
TZNAME:EDT
DTSTART:20250309T070000
END:DAYLIGHT
BEGIN:STANDARD
TZOFFSETFROM:-0400
TZOFFSETTO:-0500
TZNAME:EST
DTSTART:20251102T060000
END:STANDARD
BEGIN:DAYLIGHT
TZOFFSETFROM:-0500
TZOFFSETTO:-0400
TZNAME:EDT
DTSTART:20260308T070000
END:DAYLIGHT
BEGIN:STANDARD
TZOFFSETFROM:-0400
TZOFFSETTO:-0500
TZNAME:EST
DTSTART:20261101T060000
END:STANDARD
END:VTIMEZONE
BEGIN:VEVENT
DTSTART;TZID=America/Toronto:20251015T093000
DTEND;TZID=America/Toronto:20251015T110000
DTSTAMP:20260423T212700
CREATED:20251002T113108Z
LAST-MODIFIED:20251014T014714Z
UID:10000142-1760520600-1760526000@brockboardoftrade.com
SUMMARY:Coffee MeetUp Sunderland
DESCRIPTION:All welcome to attend our monthly coffee Meetups! We rotate them throughout Brock Township in each of our towns. \nNever been to one of our meetups? These fun\, welcoming\, and casual events are a fantastic way to meet your fellow business owners and\nemployees\, as well as BBOT board members & staff. These events have the goal of fostering meaningful relationships between our members and their community. Whether you’re already a member\, one of our non-profit community partners\, or just thinking about joining and seeing what we are all about\, we would love to see you there!
URL:https://brockboardoftrade.com/event/coffee-meetup-sunderland/
LOCATION:Roadside Country Diner\, 85 River Street\, Sunderland\, Ontario\, L0C 1H0\, Canada
ATTACH;FMTTYPE=image/jpeg:https://brockboardoftrade.com/wp-content/uploads/2025/10/coffee-meet-ups.jpg
END:VEVENT
END:VCALENDAR