BEGIN:VCALENDAR
VERSION:2.0
PRODID:-//Brock Board of Trade - ECPv6.15.20//NONSGML v1.0//EN
CALSCALE:GREGORIAN
METHOD:PUBLISH
X-WR-CALNAME:Brock Board of Trade
X-ORIGINAL-URL:https://brockboardoftrade.com
X-WR-CALDESC:Events for Brock Board of Trade
REFRESH-INTERVAL;VALUE=DURATION:PT1H
X-Robots-Tag:noindex
X-PUBLISHED-TTL:PT1H
BEGIN:VTIMEZONE
TZID:America/Toronto
BEGIN:DAYLIGHT
TZOFFSETFROM:-0500
TZOFFSETTO:-0400
TZNAME:EDT
DTSTART:20160313T070000
END:DAYLIGHT
BEGIN:STANDARD
TZOFFSETFROM:-0400
TZOFFSETTO:-0500
TZNAME:EST
DTSTART:20161106T060000
END:STANDARD
BEGIN:DAYLIGHT
TZOFFSETFROM:-0500
TZOFFSETTO:-0400
TZNAME:EDT
DTSTART:20170312T070000
END:DAYLIGHT
BEGIN:STANDARD
TZOFFSETFROM:-0400
TZOFFSETTO:-0500
TZNAME:EST
DTSTART:20171105T060000
END:STANDARD
BEGIN:DAYLIGHT
TZOFFSETFROM:-0500
TZOFFSETTO:-0400
TZNAME:EDT
DTSTART:20180311T070000
END:DAYLIGHT
BEGIN:STANDARD
TZOFFSETFROM:-0400
TZOFFSETTO:-0500
TZNAME:EST
DTSTART:20181104T060000
END:STANDARD
END:VTIMEZONE
BEGIN:VEVENT
DTSTART;TZID=America/Toronto:20170919T080000
DTEND;TZID=America/Toronto:20170919T093000
DTSTAMP:20260423T213031
CREATED:20170910T142059Z
LAST-MODIFIED:20170910T142059Z
UID:10000007-1505808000-1505813400@brockboardoftrade.com
SUMMARY:Brock Networking Group
DESCRIPTION:Join us at our monthly networking group to get your business SEEN\, HEARD and CONNECTED in Brock Township.  Meetings are held on the third Tuesday morning of every month and are on a rotation at various locations between the Towns of Sunderland\, Cannington and Beaverton.
URL:https://brockboardoftrade.com/event/brock-networking-group-2/
LOCATION:Sunderland Co-Op\, 1 River Street P.O. Box 280\, Sunderland\, Ontario\, L0C 1H0\, Canada
END:VEVENT
BEGIN:VEVENT
DTSTART;TZID=America/Toronto:20170913T190000
DTEND;TZID=America/Toronto:20170913T210000
DTSTAMP:20260423T213031
CREATED:20170910T141742Z
LAST-MODIFIED:20170910T141801Z
UID:10000006-1505329200-1505336400@brockboardoftrade.com
SUMMARY:Council of Directors BBOT Meeting
DESCRIPTION:Monthly meeting of the Brock Board of Trade Council of Directors.  Meetings are held in rotation between locations in Sunderland\, Cannington and Beaverton.
URL:https://brockboardoftrade.com/event/council-of-directors-bbot-meeting/
LOCATION:Sunderland Co-Op\, 1 River Street P.O. Box 280\, Sunderland\, Ontario\, L0C 1H0\, Canada
ORGANIZER;CN="Brock Board of Trade":MAILTO:brockboardoftrade@gmail.com
END:VEVENT
END:VCALENDAR