BEGIN:VCALENDAR
VERSION:2.0
PRODID:-//Brock Board of Trade - ECPv6.15.20//NONSGML v1.0//EN
CALSCALE:GREGORIAN
METHOD:PUBLISH
X-WR-CALNAME:Brock Board of Trade
X-ORIGINAL-URL:https://brockboardoftrade.com
X-WR-CALDESC:Events for Brock Board of Trade
REFRESH-INTERVAL;VALUE=DURATION:PT1H
X-Robots-Tag:noindex
X-PUBLISHED-TTL:PT1H
BEGIN:VTIMEZONE
TZID:America/Toronto
BEGIN:DAYLIGHT
TZOFFSETFROM:-0500
TZOFFSETTO:-0400
TZNAME:EDT
DTSTART:20230312T070000
END:DAYLIGHT
BEGIN:STANDARD
TZOFFSETFROM:-0400
TZOFFSETTO:-0500
TZNAME:EST
DTSTART:20231105T060000
END:STANDARD
BEGIN:DAYLIGHT
TZOFFSETFROM:-0500
TZOFFSETTO:-0400
TZNAME:EDT
DTSTART:20240310T070000
END:DAYLIGHT
BEGIN:STANDARD
TZOFFSETFROM:-0400
TZOFFSETTO:-0500
TZNAME:EST
DTSTART:20241103T060000
END:STANDARD
BEGIN:DAYLIGHT
TZOFFSETFROM:-0500
TZOFFSETTO:-0400
TZNAME:EDT
DTSTART:20250309T070000
END:DAYLIGHT
BEGIN:STANDARD
TZOFFSETFROM:-0400
TZOFFSETTO:-0500
TZNAME:EST
DTSTART:20251102T060000
END:STANDARD
BEGIN:DAYLIGHT
TZOFFSETFROM:-0500
TZOFFSETTO:-0400
TZNAME:EDT
DTSTART:20260308T070000
END:DAYLIGHT
BEGIN:STANDARD
TZOFFSETFROM:-0400
TZOFFSETTO:-0500
TZNAME:EST
DTSTART:20261101T060000
END:STANDARD
BEGIN:DAYLIGHT
TZOFFSETFROM:-0500
TZOFFSETTO:-0400
TZNAME:EDT
DTSTART:20270314T070000
END:DAYLIGHT
BEGIN:STANDARD
TZOFFSETFROM:-0400
TZOFFSETTO:-0500
TZNAME:EST
DTSTART:20271107T060000
END:STANDARD
END:VTIMEZONE
BEGIN:VEVENT
DTSTART;VALUE=DATE:20260411
DTEND;VALUE=DATE:20260413
DTSTAMP:20260423T225256
CREATED:20260201T022604Z
LAST-MODIFIED:20260201T022604Z
UID:10000352-1775865600-1776038399@brockboardoftrade.com
SUMMARY:Sunderland Maple Syrup Festival
DESCRIPTION:Come out to the ever-popular Sunderland Maple Syrup Festival! Fun for the whole family\, and lots to see\, do\, and buy. Visit their website (linked below) for the while schedule of events.
URL:https://brockboardoftrade.com/event/sunderland-maple-syrup-festival-2/
LOCATION:Sunderland Ontario\, Sunderland\, Ontario\, L0C 1H0\, Canada
CATEGORIES:Community Events
ATTACH;FMTTYPE=image/jpeg:https://brockboardoftrade.com/wp-content/uploads/2026/01/IMG_5395.jpg
ORGANIZER;CN="Sunderland Maple Syrup Festival":MAILTO:info@maplesyrupfestival.ca
END:VEVENT
BEGIN:VEVENT
DTSTART;TZID=America/Toronto:20250910T090000
DTEND;TZID=America/Toronto:20250910T190000
DTSTAMP:20260423T225256
CREATED:20250905T144655Z
LAST-MODIFIED:20250905T144819Z
UID:10000137-1757494800-1757530800@brockboardoftrade.com
SUMMARY:Sunderland Fall Fair
DESCRIPTION:Tickets \nTuesday Sept 9th $10.00\nWednesday Sept 10th $15.00 \nTwo Day Pass $ 20.00
URL:https://brockboardoftrade.com/event/sunderland-fair/
LOCATION:Sunderland Ontario\, Sunderland\, Ontario\, L0C 1H0\, Canada
ATTACH;FMTTYPE=image/jpeg:https://brockboardoftrade.com/wp-content/uploads/2025/09/IMG_9924-002.jpg
END:VEVENT
BEGIN:VEVENT
DTSTART;TZID=America/Toronto:20250909T170000
DTEND;TZID=America/Toronto:20250909T210000
DTSTAMP:20260423T225256
CREATED:20250905T144439Z
LAST-MODIFIED:20250905T144439Z
UID:10000136-1757437200-1757451600@brockboardoftrade.com
SUMMARY:Sunderland Fall Fair
DESCRIPTION:Tickets \nTuesday Sept 9th $10.00\nWednesday Sept 10th $15.00 \nTwo-Day Pass $20.00
URL:https://brockboardoftrade.com/event/sunderland-fall-fair-2/
LOCATION:Sunderland Ontario\, Sunderland\, Ontario\, L0C 1H0\, Canada
ATTACH;FMTTYPE=image/jpeg:https://brockboardoftrade.com/wp-content/uploads/2025/09/IMG_9924-002.jpg
END:VEVENT
BEGIN:VEVENT
DTSTART;TZID=America/Toronto:20250405T080000
DTEND;TZID=America/Toronto:20250406T170000
DTSTAMP:20260423T225256
CREATED:20241112T220634Z
LAST-MODIFIED:20241112T222617Z
UID:10000117-1743840000-1743958800@brockboardoftrade.com
SUMMARY:Sunderland Maple Syrup Festival
DESCRIPTION:Save the date! 🗓️ The 2025 Sunderland Maple Syrup Festival will be on April 5th and 6th. \nThe Brock Board of Trade is thrilled to be a diamond sponsor for this event! \n  \n 
URL:https://brockboardoftrade.com/event/2025-sunderland-maple-syrup-festival/
LOCATION:Sunderland Ontario\, Sunderland\, Ontario\, L0C 1H0\, Canada
ATTACH;FMTTYPE=image/jpeg:https://brockboardoftrade.com/wp-content/uploads/2024/11/2025-Maple-Syrup-Festival.jpg
END:VEVENT
BEGIN:VEVENT
DTSTART;TZID=America/Toronto:20241214T190000
DTEND;TZID=America/Toronto:20241214T210000
DTSTAMP:20260423T225256
CREATED:20241009T202609Z
LAST-MODIFIED:20241009T203104Z
UID:10000112-1734202800-1734210000@brockboardoftrade.com
SUMMARY:Sunderland Santa Claus Parade
DESCRIPTION:more info to come
URL:https://brockboardoftrade.com/event/sunderland-santa-claus-parade/
LOCATION:Sunderland Ontario\, Sunderland\, Ontario\, L0C 1H0\, Canada
ATTACH;FMTTYPE=image/jpeg:https://brockboardoftrade.com/wp-content/uploads/2024/10/sunderland-santa.jpg
END:VEVENT
END:VCALENDAR